BEGIN:VCALENDAR
PRODID:NingEventWidget-v1
VERSION:2.0
METHOD:PUBLISH
BEGIN:VTIMEZONE
TZID:Pacific/Midway
X-LIC-LOCATION:Pacific/Midway
BEGIN:STANDARD
TZOFFSETFROM:-1100
TZOFFSETTO:-1100
TZNAME:SST
DTSTART:19700101T000000
END:STANDARD
END:VTIMEZONE
BEGIN:VEVENT
UID:3646443:Event:75796
DTSTAMP:20260420T170214Z
SUMMARY:Ontario Hay and Forage Cooperative (OHFC) Timothy Tour and Twi
 light Meeting
DESCRIPTION:Have you heard the buzz about growing Timothy for export?\
 nJoin the OHFC for a tour of 5 Timothy fields - planted 5 different wa
 ys, and learn how you can jump on the hay wagon!\nA twilight meeting a
 nd BBQ will follow at County Line Custom Farming at 6pm.\nAdditional d
 etails can be found on the website: ontariohay.ca \n\n\nFor more info
 rmation visit https://ontag.farms.com/events/ontario-hay-and-forage-co
 operative-ohfc-timothy-tour-and-twilight
DTSTART;TZID=Pacific/Midway:20190425T150000
DTEND;TZID=Pacific/Midway:20190425T200000
CATEGORIES:car, tour
LOCATION:Dekkdale Farms
WEBSITE:https://ontariohayandforagecooperativeinc.wildapricot.org/even
 t-3365182
URL:https://ontariohayandforagecooperativeinc.wildapricot.org/event-33
 65182
CONTACT:877-892-8663
ORGANIZER:Ontario Hay &amp; Forage Co-operative Inc.
ATTACH;FMTTYPE="image/jpeg":https://storage.ning.com/topology/rest/1.0
 /file/get/2039232521?profile=original
ATTENDEE;ROLE=REQ-PARTICIPANT;PARTSTAT=ACCEPTED;RSVP=TRUE;CN="Ontario 
 Forage Council":https://ontag.farms.com/profile/OntarioForageCouncil40
 3
END:VEVENT
END:VCALENDAR
