BEGIN:VCALENDAR
PRODID:NingEventWidget-v1
VERSION:2.0
METHOD:PUBLISH
BEGIN:VTIMEZONE
TZID:Pacific/Midway
X-LIC-LOCATION:Pacific/Midway
BEGIN:STANDARD
TZOFFSETFROM:-1100
TZOFFSETTO:-1100
TZNAME:SST
DTSTART:19700101T000000
END:STANDARD
END:VTIMEZONE
BEGIN:VEVENT
UID:3646443:Event:66562
DTSTAMP:20260423T085743Z
SUMMARY:Ontario Hay Listings Service
DESCRIPTION:The Ontario Hay Listings Service is a website is a service
  for people who wish to buy and sell forages.  Please visit our websi
 te to list your hay for sale/hay wanted ad. \nHaving trouble posting?
   No problem!  Just call us, and we will assist with posting your ad
 !\n\nFor more information visit https://ontag.farms.com/events/ontario
 -hay-listings-service
DTSTART;TZID=Pacific/Midway:20160803T180000
DTEND;TZID=Pacific/Midway:20161231T190000
CATEGORIES:ad, service
LOCATION:Ontario
WEBSITE:http://www.ontariohaylistings.ca/
URL:http://www.ontariohaylistings.ca/
CONTACT:877-892-8663
ORGANIZER;CN="Ontario Forage Council":https://ontag.farms.com/profile/
 OntarioForageCouncil403
ATTACH;FMTTYPE="image/jpeg":
ATTENDEE;ROLE=REQ-PARTICIPANT;PARTSTAT=ACCEPTED;RSVP=TRUE;CN="Ontario 
 Forage Council":https://ontag.farms.com/profile/OntarioForageCouncil40
 3
END:VEVENT
END:VCALENDAR
