BEGIN:VCALENDAR
PRODID:NingEventWidget-v1
VERSION:2.0
METHOD:PUBLISH
BEGIN:VTIMEZONE
TZID:Pacific/Midway
X-LIC-LOCATION:Pacific/Midway
BEGIN:STANDARD
TZOFFSETFROM:-1100
TZOFFSETTO:-1100
TZNAME:SST
DTSTART:19700101T000000
END:STANDARD
END:VTIMEZONE
BEGIN:VEVENT
UID:3646443:Event:13183
DTSTAMP:20260422T130537Z
SUMMARY:Ontario Institute of Agrologists Conference and AGM
DESCRIPTION:The 2011 OIA Conference & 52nd AGM will take place on Apri
 l 8 & 9, 2011 at the Four Points Sheraton in London, Ontario.  This y
 ear's program will offer a broad perspective on \"What Has Changed in 
 Agrology?\"  All OIA members and guests are cordially invited to att
 end.\nTo register, please download the Conference Brochure and return 
 the Registration portion to the OIA office, with payment in full, by m
 ail, fax or email.\n\nFor more information visit https://ontag.farms.c
 om/events/ontario-institute-of
DTSTART;TZID=Pacific/Midway:20110408T000000
DTEND;TZID=Pacific/Midway:20110409T235900
CATEGORIES:conference, and, agm
LOCATION:Four Points Sheraton
WEBSITE:http://www.oia.on.ca/events/details.aspx?id=1238cc0b-3d29-4143
 -ab83-3d0c643c4115
URL:http://www.oia.on.ca/events/details.aspx?id=1238cc0b-3d29-4143-ab8
 3-3d0c643c4115
CONTACT:866-339-7619   pag@oia.on.ca
ORGANIZER;CN="OntAG Admin":https://ontag.farms.com/profile/OntAGAdmin
ATTACH;FMTTYPE="image/jpeg":http://storage.ning.com/topology/rest/1.0/
 file/get/1091507970?profile=original
ATTENDEE;ROLE=REQ-PARTICIPANT;PARTSTAT=ACCEPTED;RSVP=TRUE;CN="OntAG Ad
 min":https://ontag.farms.com/profile/OntAGAdmin
END:VEVENT
END:VCALENDAR
