BEGIN:VCALENDAR
PRODID:NingEventWidget-v1
VERSION:2.0
METHOD:PUBLISH
BEGIN:VTIMEZONE
TZID:Pacific/Midway
X-LIC-LOCATION:Pacific/Midway
BEGIN:STANDARD
TZOFFSETFROM:-1100
TZOFFSETTO:-1100
TZNAME:SST
DTSTART:19700101T000000
END:STANDARD
END:VTIMEZONE
BEGIN:VEVENT
UID:3646443:Event:32420
DTSTAMP:20260420T154612Z
SUMMARY:Ontario Pork Congress - Don't Miss Ted Reader, BBQ Kingpin \"B
 EERLICIOUS\"
DESCRIPTION:\n\nFor more information visit https://ontag.farms.com/eve
 nts/ontario-pork-congress-don-t-miss-ted-reader-bbq-kingpin
DTSTART;TZID=Pacific/Midway:20120619T180000
DTEND;TZID=Pacific/Midway:20120620T190000
CATEGORIES:pork, congress
LOCATION:Stratford Agriplex
WEBSITE:http://www.porkcongress.on.ca/
URL:http://www.porkcongress.on.ca/
CONTACT:
ORGANIZER:Ontario Pork
ATTACH;FMTTYPE="image/jpeg":http://storage.ning.com/topology/rest/1.0/
 file/get/1091516571?profile=original
ATTENDEE;ROLE=REQ-PARTICIPANT;PARTSTAT=ACCEPTED;RSVP=TRUE;CN="OntAG Ad
 min":https://ontag.farms.com/profile/OntAGAdmin
END:VEVENT
END:VCALENDAR
