BEGIN:VCALENDAR
PRODID:NingEventWidget-v1
VERSION:2.0
METHOD:PUBLISH
BEGIN:VTIMEZONE
TZID:Pacific/Midway
X-LIC-LOCATION:Pacific/Midway
BEGIN:STANDARD
TZOFFSETFROM:-1100
TZOFFSETTO:-1100
TZNAME:SST
DTSTART:19700101T000000
END:STANDARD
END:VTIMEZONE
BEGIN:VEVENT
UID:3646443:Event:65869
DTSTAMP:20260423T083821Z
SUMMARY:Ontario Pork Congress
DESCRIPTION:Visit the website and watch for updated information\nhttp:
 //www.porkcongress.on.ca/\n\nFor more information visit https://ontag.
 farms.com/events/ontario-pork-congress
DTSTART;TZID=Pacific/Midway:20160622T000000
DTEND;TZID=Pacific/Midway:20160623T235900
CATEGORIES:pork, congress
LOCATION:Stratford Rotary Complex
WEBSITE:http://www.porkcongress.on.ca/
URL:http://www.porkcongress.on.ca/
CONTACT:
ORGANIZER:Pork Congress
ATTACH;FMTTYPE="image/jpeg":http://storage.ning.com/topology/rest/1.0/
 file/get/1091538022?profile=original
ATTENDEE;ROLE=REQ-PARTICIPANT;PARTSTAT=ACCEPTED;RSVP=TRUE;CN="OntAG Ad
 min":https://ontag.farms.com/profile/OntAGAdmin
END:VEVENT
END:VCALENDAR
