BEGIN:VCALENDAR
PRODID:NingEventWidget-v1
VERSION:2.0
METHOD:PUBLISH
BEGIN:VTIMEZONE
TZID:Pacific/Midway
X-LIC-LOCATION:Pacific/Midway
BEGIN:STANDARD
TZOFFSETFROM:-1100
TZOFFSETTO:-1100
TZNAME:SST
DTSTART:19700101T000000
END:STANDARD
END:VTIMEZONE
BEGIN:VEVENT
UID:3646443:Event:113585
DTSTAMP:20260421T040506Z
SUMMARY:Ontario Pork Partners with Kitchener Rangers to Restock Food B
 ank Shelves
DESCRIPTION:To celebrate Canada’s Agriculture Day on February 13, 20
 24, Ontario Pork, the Kitchener Rangers, The Food Bank of Waterloo Re
 gion and Feed Ontario will make an announcement regarding the upcoming
  Ontario Hockey League game between the Kitchener Rangers and the Gue
 lph Storm.  Details of this initiative will be unveiled on how the pub
 lic can help support Feed Ontario and The Food Bank of Waterloo Regio
 n.  Date: Wednesday, February 7, 2024 TIme: 1.30pm  Refreshments will 
 be provided. Media representatives are asked to give notice of attenda
 nce by emailing communications@ontariopork.on.ca   For more informatio
 n contact: Tyler Calver Senior Communications Specialist, Ontario Pork
   tyler.calver@ontariopork.on.ca\n\nFor more information visit https:/
 /ontag.farms.com/events/ontario-pork-partners-with-kitchener-rangers-t
 o-restock-food-bank
DTSTART;TZID=Pacific/Midway:20240213T190000
DTEND;TZID=Pacific/Midway:20240213T230000
CATEGORIES:hockey, league, game
LOCATION:Kitchener Auditorium
WEBSITE:
URL:
CONTACT:
ORGANIZER:Ontario pork
ATTACH;FMTTYPE="image/jpeg":https://storage.ning.com/topology/rest/1.0
 /file/get/12372663701?profile=original
ATTENDEE;ROLE=REQ-PARTICIPANT;PARTSTAT=ACCEPTED;RSVP=TRUE;CN="OntAG Ad
 min":https://ontag.farms.com/profile/OntAGAdmin
END:VEVENT
END:VCALENDAR
