BEGIN:VCALENDAR
PRODID:NingEventWidget-v1
VERSION:2.0
METHOD:PUBLISH
BEGIN:VTIMEZONE
TZID:Pacific/Midway
X-LIC-LOCATION:Pacific/Midway
BEGIN:STANDARD
TZOFFSETFROM:-1100
TZOFFSETTO:-1100
TZNAME:SST
DTSTART:19700101T000000
END:STANDARD
END:VTIMEZONE
BEGIN:VEVENT
UID:3646443:Event:73163
DTSTAMP:20260422T023653Z
SUMMARY:Ontario Seed Growersâ€™ Association Field Day
DESCRIPTION:Tuesday, June 26/18 at Curtis Seeds 38723 Fingal Line, St.
  Thomas\r\n9:30 am Registration; 10 am Tour Bioflora, Canadaâ€™s large
 st agent for ornamental verification and protection of Plant Breederâ€
 ™s Rights. â–ª Ashley Balchin, Examiner, Plant Breeders' Rights Office
 , CFIA; â–ª Brenda Cole, Bioflora Owner 10:45 am Tour of seed plant an
 d seed treatment facilities Featuring a state-of-the-art Tri-Flow auto
 mated seed treatment system; â–ª Dan Curtis, Curtis Seeds Owner 11:30 
 Field Plot tours\r\n12:00 BBQ Lunch Sponsored by SeCan and Bayer Crop 
 Science\r\n1:15 Update on Cereals Research; â–ª Dr. Alireza Navabi, Wh
 eat Breeder U of G;  1:45 pm Update on Field Crop Agronomic Research; 
 â–ª Dr. Dave Hooker, Field Crop Agronomist Ridgetown Campus 2:15 pm Pa
 nel of Select Seed Growersâ€“ What is involved and what are the benefi
 ts of becoming a Select Grower 3 pm Adjourn Please register at: www.se
 edontario.ca/field-day by June 22/18\n\nFor more information visit htt
 ps://ontag.farms.com/events/ontario-seed-growers-association-field-day
DTSTART;TZID=Pacific/Midway:20180626T093000
DTEND;TZID=Pacific/Midway:20180626T150000
CATEGORIES:field, day
LOCATION:Curtis Seeds
WEBSITE:http://seedontario.ca/field-day/
URL:http://seedontario.ca/field-day/
CONTACT:613-716-7348
ORGANIZER:Ontario Seed Growersâ€™ Association
ATTACH;FMTTYPE="image/jpeg":http://storage.ning.com/topology/rest/1.0/
 file/get/1091553160?profile=original
ATTENDEE;ROLE=REQ-PARTICIPANT;PARTSTAT=ACCEPTED;RSVP=TRUE;CN="OntAG Ad
 min":https://ontag.farms.com/profile/OntAGAdmin
END:VEVENT
END:VCALENDAR
