BEGIN:VCALENDAR
PRODID:NingEventWidget-v1
VERSION:2.0
METHOD:PUBLISH
BEGIN:VTIMEZONE
TZID:Pacific/Midway
X-LIC-LOCATION:Pacific/Midway
BEGIN:STANDARD
TZOFFSETFROM:-1100
TZOFFSETTO:-1100
TZNAME:SST
DTSTART:19700101T000000
END:STANDARD
END:VTIMEZONE
BEGIN:VEVENT
UID:3646443:Event:5455
DTSTAMP:20260422T235449Z
SUMMARY:Ontario Seed Growers' Association June Field Day
DESCRIPTION:Ontario Seed Growers' Association June Field Day\n\nMornin
 g tour, BBQ, Presentations\nBowpark Farms 140 Oxbow Rd, Brantford.\n\n
 1-800-265-9751\nosga@ontariosoilcrop.org\n\nFor more information visit
  https://ontag.farms.com/events/ontario-seed-growers
DTSTART;TZID=Pacific/Midway:20100629T100000
DTEND;TZID=Pacific/Midway:20100629T150000
CATEGORIES:june, field, day
LOCATION:Brantford
WEBSITE:
URL:
CONTACT:
ORGANIZER:
ATTACH;FMTTYPE="image/jpeg":http://storage.ning.com/topology/rest/1.0/
 file/get/1091504124?profile=original
ATTENDEE;ROLE=REQ-PARTICIPANT;PARTSTAT=ACCEPTED;RSVP=TRUE;CN="OntAG Ad
 min":https://ontag.farms.com/profile/OntAGAdmin
END:VEVENT
END:VCALENDAR
