BEGIN:VCALENDAR
PRODID:NingEventWidget-v1
VERSION:2.0
METHOD:PUBLISH
BEGIN:VTIMEZONE
TZID:Pacific/Midway
X-LIC-LOCATION:Pacific/Midway
BEGIN:STANDARD
TZOFFSETFROM:-1100
TZOFFSETTO:-1100
TZNAME:SST
DTSTART:19700101T000000
END:STANDARD
END:VTIMEZONE
BEGIN:VEVENT
UID:3646443:Event:8990
DTSTAMP:20260423T104045Z
SUMMARY:Ontario Solar Network: Annual Membership Registration / Specia
 l January 2011 Offer / 50% Off!
DESCRIPTION:Membership fees are 50% off until January 31.Free Trial On
 e Month Membership – Basic (ending January 31) Click here!**To inqui
 re or register as a Founding Member or Government Agency, please call 
 Cynthia Kenth,Director of Member Services at  647-869-0733 or send an
  email to cynthia@solarnetwork.org.Note that Membership fees are 50% o
 ff until January 31.Free Trial Membership - Basic (ending January 31) 
 Click here!\n\nFor more information visit https://ontag.farms.com/even
 ts/ontario-solar-network-annual
DTSTART;TZID=Pacific/Midway:20110131T120000
DTEND;TZID=Pacific/Midway:20110131T170000
CATEGORIES:conference
LOCATION:Ontario Solar Network 15 Allstate Parkway, Unit 600 Markham, 
 ON, L3R 5B4
WEBSITE:http://solarnetwork.org/ontario/
URL:http://solarnetwork.org/ontario/
CONTACT:647-869-0733
ORGANIZER:Ontario Solar Network
ATTACH;FMTTYPE="image/jpeg":http://storage.ning.com/topology/rest/1.0/
 file/get/1091510990?profile=original
ATTENDEE;ROLE=REQ-PARTICIPANT;PARTSTAT=ACCEPTED;RSVP=TRUE;CN="Prakash 
 Arige":https://ontag.farms.com/profile/PrakashArige
END:VEVENT
END:VCALENDAR
