BEGIN:VCALENDAR
PRODID:NingEventWidget-v1
VERSION:2.0
METHOD:PUBLISH
BEGIN:VTIMEZONE
TZID:Pacific/Midway
X-LIC-LOCATION:Pacific/Midway
BEGIN:STANDARD
TZOFFSETFROM:-1100
TZOFFSETTO:-1100
TZNAME:SST
DTSTART:19700101T000000
END:STANDARD
END:VTIMEZONE
BEGIN:VEVENT
UID:3646443:Event:101901
DTSTAMP:20260422T000022Z
SUMMARY:Ontario World Food Day Concert
DESCRIPTION:Many things have changed this year, but one thing that has
 n’t? The dedication many Ontario residents have for helping people a
 round the world who are hungry.\r\nThe concert features Naomi Bristow,
  a country music singer and yodeler from Beeton, Ontario.\r\nIn past y
 ears, the concert has been held live and in-person in Meaford. While i
 t’s not how anyone would have preferred, Bristow and Reinders are op
 timistic the show will still be entertaining.As Bristow points out, 
 We will make the best of current situations...the show must go on!”
   For his part, Reinders is excited to see the show come together, and
  to bring people together virtually around support for a shared cause.
  “Knowing that people who care about their global neighbours will be
  coming together, even virtually, to make a difference is something to
  celebrate,” he says. Anyone interested is invited to visit www.food
 grainsbank.ca/news/world-food-day-virtual-concert/ to learn more or to
  make a donation.For more information contact:Henry Reindersontario@fo
 odgrainsbank.ca519-373-2769\n\nFor more information visit https://onta
 g.farms.com/events/ontario-world-food-day-concert
DTSTART;TZID=Pacific/Midway:20201101T190000
DTEND;TZID=Pacific/Midway:20201101T210000
CATEGORIES:virtual, concert
LOCATION:Online Event
WEBSITE:https://foodgrainsbank.ca/news/world-food-day-virtual-concert/
URL:https://foodgrainsbank.ca/news/world-food-day-virtual-concert/
CONTACT:519-373-2769
ORGANIZER:Canadian Foodgrains Bank
ATTACH;FMTTYPE="image/jpeg":https://storage.ning.com/topology/rest/1.0
 /file/get/8067264263?profile=original
ATTENDEE;ROLE=REQ-PARTICIPANT;PARTSTAT=ACCEPTED;RSVP=TRUE;CN="OntAG Ad
 min":https://ontag.farms.com/profile/OntAGAdmin
END:VEVENT
END:VCALENDAR
