BEGIN:VCALENDAR
PRODID:NingEventWidget-v1
VERSION:2.0
METHOD:PUBLISH
BEGIN:VTIMEZONE
TZID:Pacific/Midway
X-LIC-LOCATION:Pacific/Midway
BEGIN:STANDARD
TZOFFSETFROM:-1100
TZOFFSETTO:-1100
TZNAME:SST
DTSTART:19700101T000000
END:STANDARD
END:VTIMEZONE
BEGIN:VEVENT
UID:3646443:Event:63586
DTSTAMP:20260422T201652Z
SUMMARY:Ontario Young Farmers Forum #FARM365
DESCRIPTION:Ontario Young Farmers Forum #FARM365\nThe Ontario Young Fa
 rmers Forum (OYFF) is back, Sunday November 22 and Monday November 23,
  2015 at the International Plaza Hotel in Toronto.\nOYFF attracts some
  of the brightest and most innovative young farmers (age18-40) from ac
 ross the province for a 2-day forum in conjunction with the Ontario Fe
 deration of Agriculture (OFA) annual meeting and convention.\nSome of 
 our guest mentors this year include:\n\nAndrew Campbell, Fresh Air Far
 mer\nKevin Stewart, AGVision Media\nLyndsey Smith\nBeyond the Boardroo
 m, mentorship for agriculture, a joint session with the OFA Proud to L
 ead Committee, OFA delegates and OYFF.\nFarm and Food Care Ontario\n\n
 REGISTRATION FEE: $160.00\nEmail the completed registration form att
 ached to oyff@jfao.on.ca or mail along with cheque, payable to Junio
 r Farmers’ Association of Ontario to: OYFF Registration c/o JFAO, 10
 0 Stone Rd. W. Suite 206. Guelph, ON. N1G 5L3\nPlease contact the Inte
 rnational Plaza Hotel at 416.244.1711 to book your accommodation, quot
 e OYFF to take advantage of our special rate.\n(Please note registrati
 on fee does not include hotel, however it does include meals and snack
 s, and incl. offsite dinner on Sunday and Harvest dinner Monday evenin
 g)\nFollow us on Twitter @OYFF15 or see our Facebook event page for 
 updates.\n\nFor more information visit https://ontag.farms.com/events/
 ontario-young-farmers-forum-farm365
DTSTART;TZID=Pacific/Midway:20151122T000000
DTEND;TZID=Pacific/Midway:20151123T235900
CATEGORIES:ontario, young, farmers, forum
LOCATION:International Plaza Hotel
WEBSITE:http://www.ofa.on.ca/oyff2015
URL:http://www.ofa.on.ca/oyff2015
CONTACT:
ORGANIZER:OYFF
ATTACH;FMTTYPE="image/jpeg":http://storage.ning.com/topology/rest/1.0/
 file/get/1091542852?profile=original
ATTENDEE;ROLE=REQ-PARTICIPANT;PARTSTAT=ACCEPTED;RSVP=TRUE;CN="OntAG Ad
 min":https://ontag.farms.com/profile/OntAGAdmin
END:VEVENT
END:VCALENDAR
