BEGIN:VCALENDAR
PRODID:NingEventWidget-v1
VERSION:2.0
METHOD:PUBLISH
BEGIN:VTIMEZONE
TZID:Pacific/Midway
X-LIC-LOCATION:Pacific/Midway
BEGIN:STANDARD
TZOFFSETFROM:-1100
TZOFFSETTO:-1100
TZNAME:SST
DTSTART:19700101T000000
END:STANDARD
END:VTIMEZONE
BEGIN:VEVENT
UID:3646443:Event:76185
DTSTAMP:20260419T022816Z
SUMMARY:Ontario Young Farmers Forum
DESCRIPTION:Ontario Young Farmers Forum, held with the OFA convention 
 at the Hamilton Convention Centre, for participants age 18-40\n\nFor m
 ore information visit https://ontag.farms.com/events/ontario-young-far
 mers-forum
DTSTART;TZID=Pacific/Midway:20191117T000000
DTEND;TZID=Pacific/Midway:20191118T235900
CATEGORIES:forum
LOCATION:Hamilton Convention Center
WEBSITE:http://www.jfao.on.ca/oyff
URL:http://www.jfao.on.ca/oyff
CONTACT:
ORGANIZER:Junior Farmers' Association of Ontario
ATTACH;FMTTYPE="image/jpeg":https://storage.ning.com/topology/rest/1.0
 /file/get/2878596895?profile=original
ATTENDEE;ROLE=REQ-PARTICIPANT;PARTSTAT=ACCEPTED;RSVP=TRUE;CN="OntAG Ad
 min":https://ontag.farms.com/profile/OntAGAdmin
END:VEVENT
END:VCALENDAR
