BEGIN:VCALENDAR
PRODID:NingEventWidget-v1
VERSION:2.0
METHOD:PUBLISH
BEGIN:VTIMEZONE
TZID:Pacific/Midway
X-LIC-LOCATION:Pacific/Midway
BEGIN:STANDARD
TZOFFSETFROM:-1100
TZOFFSETTO:-1100
TZNAME:SST
DTSTART:19700101T000000
END:STANDARD
END:VTIMEZONE
BEGIN:VEVENT
UID:3646443:Event:2118
DTSTAMP:20260423T052948Z
SUMMARY:OnTrace Processor Traceability Workshop
DESCRIPTION:Everything you wanted to know about traceability but didn'
 t know who to ask!\n\nThe OnTrace Traceability Workshops for Meat Proc
 essors\n\nOnTrace, Ontario’s go-to organization for traceability sol
 utions and information is offering a series of workshops that will:\n\
 n• Make traceability work for you\n• Capture needed information ea
 sily\n• Set the stage for your own traceability system\n\nMonday Nov
 ember 23rd, 2009 – Guelph\nHoliday Inn Guelph Hotel & Conference Cen
 tre\n601 Scottsdale Drive, Guelph, Ontario\n\nThursday November 12th, 
 2009 – Jordan, Ontario\nBest Western Beacon Harbourside Inn\n2793 Be
 acon Boulevard, Jordan, Ontario\n\nThursday November 19th, 2009 – Mi
 ssissauga\nHoliday Inn, Mississauga Toronto West\n100 Britannia Road E
 ast, Mississauga, Ontario\n\nSpace is limited, register today.\nAll wo
 rkshops will include lunch and this workshop will run from 8:00am - 4:
 00pm.\nRegistration fee is $25 per person.\nTo register and for furthe
 r information call\nToll Free 1-888-38-TRACE (8-7223)\nor visit www.on
 traceagrifood.com\n\nFor more information visit https://ontag.farms.co
 m/events/ontrace-processor-traceability
DTSTART;TZID=Pacific/Midway:20091109T080000
DTEND;TZID=Pacific/Midway:20091123T160000
CATEGORIES:workshop
LOCATION:Various Locations around Ontario
WEBSITE:http://www.ontraceagrifood.com
URL:http://www.ontraceagrifood.com
CONTACT:1-888-388-7223
ORGANIZER;CN="Sara Avoledo":https://ontag.farms.com/profile/SaraAvoled
 o
ATTACH;FMTTYPE="image/jpeg":http://storage.ning.com/topology/rest/1.0/
 file/get/1091503517?profile=original
ATTENDEE;ROLE=REQ-PARTICIPANT;PARTSTAT=ACCEPTED;RSVP=TRUE;CN="Sara Avo
 ledo":https://ontag.farms.com/profile/SaraAvoledo
END:VEVENT
END:VCALENDAR
