BEGIN:VCALENDAR
PRODID:NingEventWidget-v1
VERSION:2.0
METHOD:PUBLISH
BEGIN:VTIMEZONE
TZID:Pacific/Midway
X-LIC-LOCATION:Pacific/Midway
BEGIN:STANDARD
TZOFFSETFROM:-1100
TZOFFSETTO:-1100
TZNAME:SST
DTSTART:19700101T000000
END:STANDARD
END:VTIMEZONE
BEGIN:VEVENT
UID:3646443:Event:3906
DTSTAMP:20260422T162712Z
SUMMARY:OPIC 10th Annual General Meeting
DESCRIPTION:Ontario Pork Industry Council's 10th Annual AGM\n\nCome ou
 t to help celebrate OPIC's accomplishments and to hear guest speaker J
 ohn F.T. Scott is President & CEO of The Canadian Federation of Indepe
 ndent Grocers.\n\nRegistration 4:00\nBusiness Meeting 4:30\nDinner 6:3
 0\nAnnouncements & Key Note Speaker 7:30\n\n$20 for OPIC Members or $4
 0 for Non-members\nCash Bar\n\nFor more information visit https://onta
 g.farms.com/events/opic-10th-annual-general
DTSTART;TZID=Pacific/Midway:20100413T160000
DTEND;TZID=Pacific/Midway:20100413T210000
CATEGORIES:agm
LOCATION:Arden Park Hotel
WEBSITE:
URL:
CONTACT:
ORGANIZER;CN="Ontario Pork Industry Council":https://ontag.farms.com/p
 rofile/OntarioPorkIndustryCouncil
ATTACH;FMTTYPE="image/jpeg":http://storage.ning.com/topology/rest/1.0/
 file/get/1091501114?profile=original
ATTENDEE;ROLE=REQ-PARTICIPANT;PARTSTAT=ACCEPTED;RSVP=TRUE;CN="Ontario 
 Pork Industry Council":https://ontag.farms.com/profile/OntarioPorkIndu
 stryCouncil
END:VEVENT
END:VCALENDAR
