BEGIN:VCALENDAR
PRODID:NingEventWidget-v1
VERSION:2.0
METHOD:PUBLISH
BEGIN:VTIMEZONE
TZID:Pacific/Midway
X-LIC-LOCATION:Pacific/Midway
BEGIN:STANDARD
TZOFFSETFROM:-1100
TZOFFSETTO:-1100
TZNAME:SST
DTSTART:19700101T000000
END:STANDARD
END:VTIMEZONE
BEGIN:VEVENT
UID:3646443:Event:3258
DTSTAMP:20260423T061922Z
SUMMARY:OPIC - HR Management Training Seminar Series
DESCRIPTION:Family Dynamics on the Farm\n\nModule 5: Family Dynamics o
 n the Farm\n\nWhy can’t we all just get along? When two people are i
 n a room together there will be conflict, eventually. The potential fo
 r disagreements increases when multiple generations and family members
  work together. How can we have a successful family unit and a success
 ful business? Learners at the module will value the impact of multiple
  generations and family members working together and identify strategi
 es to use this diversity to their advantage.\n\nThis session will be d
 elivered by Jen Denys of The Right Path Consulting Group\n\nhttp://www
 .rightpathconsulting.com/\n\nCost: $20 for OPIC Members per Session\n\
 n$50 for Non-Members per Session\n\nTo register for this session conta
 ct Sue Selves 519-993-0469 opicsue@gmail.com\n\nFor more information v
 isit https://ontag.farms.com/events/opic-hr-management-training
DTSTART;TZID=Pacific/Midway:20100120T130000
DTEND;TZID=Pacific/Midway:20100120T160000
CATEGORIES:opic, hr, seminar
LOCATION:Royal Canadian Legion, Mitchell
WEBSITE:http://www.opic.on.ca/aspx/public/Events/DetailEvent.aspx?Id=8
 9
URL:http://www.opic.on.ca/aspx/public/Events/DetailEvent.aspx?Id=89
CONTACT:519-993-0469          opicsue@gmail.com
ORGANIZER:OPIC Sue Selves
ATTACH;FMTTYPE="image/jpeg":http://storage.ning.com/topology/rest/1.0/
 file/get/1091501744?profile=original
ATTENDEE;ROLE=REQ-PARTICIPANT;PARTSTAT=ACCEPTED;RSVP=TRUE;CN=AgOntario
 :https://ontag.farms.com/profile/AgOntario
END:VEVENT
END:VCALENDAR
