BEGIN:VCALENDAR
PRODID:NingEventWidget-v1
VERSION:2.0
METHOD:PUBLISH
BEGIN:VTIMEZONE
TZID:Pacific/Midway
X-LIC-LOCATION:Pacific/Midway
BEGIN:STANDARD
TZOFFSETFROM:-1100
TZOFFSETTO:-1100
TZNAME:SST
DTSTART:19700101T000000
END:STANDARD
END:VTIMEZONE
BEGIN:VEVENT
UID:3646443:Event:7544
DTSTAMP:20260425T123656Z
SUMMARY:OSA'S 5-DAY PV DESIGN & INSTALLATION COURSE (JAN 31 - FEB 4)
DESCRIPTION:Organization Ontario Solar Academy  Name of Event 5-Day PV
  Design & Installation Training Classes  URL www.solaracademy.com/onta
 rio  Email contact@solaracademy.ca  Address TBA Toronto, Ontario Canad
 a  Phone Number 416-900-7191  Contact PersonJacob Travis, Ph.D., Direc
 tor  Date Monday, January 31, 2011 8:30 AM - Friday, February 04, 2011
  3:00 PM (Eastern Time)  Price $2,995 Canadian. Register 3 weeks in ad
 vance, save $350!  [Includes tuition, all course materials,plus lunch 
 and refreshments for five full days. Accommodations not included.]  Co
 urse Description A division of Solar Academy International (SAI), Onta
 rio Solar Academy offers training courses based on NABCEP learning obj
 ectives to quickly advance expertise in Solar PV (Photovoltaic) design
  and installation.  Ontario Solar Academy’s NABCEP-certified instruc
 tors are experienced, solar professionals with extensive backgrounds i
 n career-focused education. The 5-Day PV Design & Installation Trainin
 g includes hands-on workshops that prepare participants for the NABCEP
  PV Entry Level Exam.  Ontario Solar Academy's 5-Day Solar PV Design a
 nd Installation Course (Level One) covers fundamental knowledge and re
 views the design, installation, and evaluation of residential and comm
 ercial solar photovoltaic (PV) systems.  The solar training, based on 
 the NABCEP learning objectives, includes site evaluation tools and tec
 hniques, solar electric component operation and connection, system des
 ign and sizing, and standard requirements and practices. This special 
 Ontario Solar Academy course guides students from system fundamentals 
 to advanced mechanical and electrical concepts in accordance with Elec
 trical Code requirements in Ontario. Passing a final exam qualifies st
 udents for Solar Academy's \"Solar Professional Certificate: Level One
 .\"  Lead Instructor Info The lead instructor is PV Industry expert Se
 an White. Sean is a highly experienced PV educator, having taught at s
 everal training centers on the West and East Coasts of the USA. Hundre
 ds of his students are employed at both startup and leading solar comp
 anies. Sean also designs commercial and residential PV systems in San 
 Francisco Bay Area.  Sean has many years of practical work experience 
 at Fidelity Roof and Local Power in California. He is NABCEP Certified
  in PV System Design & Installation 2009 and a licensed c-46 solar con
 tractor in California. He finds great satisfaction in sharing his know
 ledge of PV with his students. Sean's approach appeals to both beginne
 rs and solar experts looking to expand their knowledge. Student evalua
 tions demonstrate that Sean's knowledge, passion and pedagogy are outs
 tanding..\n\nFor more information visit https://ontag.farms.com/events
 /osas-5day-pv-design-1
DTSTART;TZID=Pacific/Midway:20110131T083000
DTEND;TZID=Pacific/Midway:20110204T150000
CATEGORIES:"training class"
LOCATION:TBA, Toronto, Ontario, Canada
WEBSITE:http://www.solaracademy.com/ontario
URL:http://www.solaracademy.com/ontario
CONTACT:416-900-7191
ORGANIZER:Ontario Solar Academy
ATTACH;FMTTYPE="image/jpeg":http://storage.ning.com/topology/rest/1.0/
 file/get/1091510663?profile=original
ATTENDEE;ROLE=REQ-PARTICIPANT;PARTSTAT=ACCEPTED;RSVP=TRUE;CN="Prakash 
 Arige":https://ontag.farms.com/profile/PrakashArige
END:VEVENT
END:VCALENDAR
