BEGIN:VCALENDAR
PRODID:NingEventWidget-v1
VERSION:2.0
METHOD:PUBLISH
BEGIN:VTIMEZONE
TZID:Pacific/Midway
X-LIC-LOCATION:Pacific/Midway
BEGIN:STANDARD
TZOFFSETFROM:-1100
TZOFFSETTO:-1100
TZNAME:SST
DTSTART:19700101T000000
END:STANDARD
END:VTIMEZONE
BEGIN:VEVENT
UID:3646443:Event:251
DTSTAMP:20260422T095757Z
SUMMARY:Ottawa Farm Show
DESCRIPTION:Ottawa Farm Show\n\nFor more information visit https://ont
 ag.farms.com/events/ottawa-farm-show
DTSTART;TZID=Pacific/Midway:20100316T000000
DTEND;TZID=Pacific/Midway:20100318T235900
CATEGORIES:farm, show
LOCATION:Ottawa, Ontario
WEBSITE:http://www.ottawafarmshow.com/
URL:http://www.ottawafarmshow.com/
CONTACT:
ORGANIZER;CN="OntAG Admin":https://ontag.farms.com/profile/OntAGAdmin
ATTACH;FMTTYPE="image/jpeg":
ATTENDEE;ROLE=REQ-PARTICIPANT;PARTSTAT=ACCEPTED;RSVP=TRUE;CN="OntAG Ad
 min":https://ontag.farms.com/profile/OntAGAdmin
END:VEVENT
END:VCALENDAR
