BEGIN:VCALENDAR
PRODID:NingEventWidget-v1
VERSION:2.0
METHOD:PUBLISH
BEGIN:VTIMEZONE
TZID:Pacific/Midway
X-LIC-LOCATION:Pacific/Midway
BEGIN:STANDARD
TZOFFSETFROM:-1100
TZOFFSETTO:-1100
TZNAME:SST
DTSTART:19700101T000000
END:STANDARD
END:VTIMEZONE
BEGIN:VEVENT
UID:3646443:Event:34431
DTSTAMP:20260423T191350Z
SUMMARY:Ottawa Valley Farm Show
DESCRIPTION:The Ottawa Valley Farm Show is Ontario's longest running a
 gricultural trade show. From the beginning, it has been organized by f
 armers for farmers on a non-profit basis.   The 85th edition of the O
 ttawa Valley Farm Show (OVFS) is gearing up. More than 350 exhibitors 
 will be on hand at the new Capital Exhibition Centre offering a wide r
 ange of farm machinery, equipment and services.  Thanks to all who hel
 ped to make the 2011 Ottawa Valley Farm Show such a great success.\n\n
 For more information visit https://ontag.farms.com/events/ottawa-valle
 y-farm-show-1
DTSTART;TZID=Pacific/Midway:20130313T090000
DTEND;TZID=Pacific/Midway:20130315T160000
CATEGORIES:valley, farm
LOCATION:New Capital Exhibition Centre
WEBSITE:
URL:
CONTACT:
ORGANIZER;CN="OntAG Admin":https://ontag.farms.com/profile/OntAGAdmin
ATTACH;FMTTYPE="image/jpeg":http://storage.ning.com/topology/rest/1.0/
 file/get/1091521770?profile=original
ATTENDEE;ROLE=REQ-PARTICIPANT;PARTSTAT=ACCEPTED;RSVP=TRUE;CN="OntAG Ad
 min":https://ontag.farms.com/profile/OntAGAdmin
END:VEVENT
END:VCALENDAR
