BEGIN:VCALENDAR
PRODID:NingEventWidget-v1
VERSION:2.0
METHOD:PUBLISH
BEGIN:VTIMEZONE
TZID:Pacific/Midway
X-LIC-LOCATION:Pacific/Midway
BEGIN:STANDARD
TZOFFSETFROM:-1100
TZOFFSETTO:-1100
TZNAME:SST
DTSTART:19700101T000000
END:STANDARD
END:VTIMEZONE
BEGIN:VEVENT
UID:3646443:Event:51701
DTSTAMP:20260422T025930Z
SUMMARY:Ottawa Valley Farm Show
DESCRIPTION:The Ottawa Valley Farm Show is Ontario's longest running a
 gricultural trade show. From the beginning, it has been organized by f
 armers for farmers on a non-profit basis.\nThe 87th edition of the Ott
 awa Valley Farm Show (OVFS) is gearing up. More than 350 exhibitors wi
 ll be on hand at the Ernst & Young Centre offering a wide range of far
 m machinery, equipment and services.\nThanks to all who helped to make
  the 2013 Ottawa Valley Farm Show such a great success.\n\nFor more in
 formation visit https://ontag.farms.com/events/ottawa-valley-farm-show
 -2
DTSTART;TZID=Pacific/Midway:20140311T090000
DTEND;TZID=Pacific/Midway:20140313T160000
CATEGORIES:farm, show
LOCATION:Ernst & Young Centre, Ottawa, Ontario, Canada
WEBSITE:http://www.ottawafarmshow.com/
URL:http://www.ottawafarmshow.com/
CONTACT:
ORGANIZER;CN="OntAG Admin":https://ontag.farms.com/profile/OntAGAdmin
ATTACH;FMTTYPE="image/jpeg":http://storage.ning.com/topology/rest/1.0/
 file/get/1091525029?profile=original
ATTENDEE;ROLE=REQ-PARTICIPANT;PARTSTAT=ACCEPTED;RSVP=TRUE;CN="OntAG Ad
 min":https://ontag.farms.com/profile/OntAGAdmin
END:VEVENT
END:VCALENDAR
