BEGIN:VCALENDAR
PRODID:NingEventWidget-v1
VERSION:2.0
METHOD:PUBLISH
BEGIN:VTIMEZONE
TZID:Pacific/Midway
X-LIC-LOCATION:Pacific/Midway
BEGIN:STANDARD
TZOFFSETFROM:-1100
TZOFFSETTO:-1100
TZNAME:SST
DTSTART:19700101T000000
END:STANDARD
END:VTIMEZONE
BEGIN:VEVENT
UID:3646443:Event:66128
DTSTAMP:20260420T124644Z
SUMMARY:Ottawa Valley Farm Show
DESCRIPTION:Ottawa Valley Farm Show Sponsored by the Ottawa Valley See
 d Growers Association offering the latest in merchandise and services 
 for farmers and other rural residents\nSponsored by the Ottawa Valley 
 Seed Growers Associationoffering the latest in merchandise and service
 s for farmers and other rural residents\n\nFor more information visit 
 https://ontag.farms.com/events/ottawa-valley-farm-show-4
DTSTART;TZID=Pacific/Midway:20170314T090000
DTEND;TZID=Pacific/Midway:20170316T170000
CATEGORIES:farm, show
LOCATION:EY Centre,
WEBSITE:http://www.ottawafarmshow.com/
URL:http://www.ottawafarmshow.com/
CONTACT:613 791-3900
ORGANIZER;CN="OntAG Admin":https://ontag.farms.com/profile/OntAGAdmin
ATTACH;FMTTYPE="image/jpeg":
ATTENDEE;ROLE=REQ-PARTICIPANT;PARTSTAT=ACCEPTED;RSVP=TRUE;CN="OntAG Ad
 min":https://ontag.farms.com/profile/OntAGAdmin
END:VEVENT
END:VCALENDAR
