BEGIN:VCALENDAR
PRODID:NingEventWidget-v1
VERSION:2.0
METHOD:PUBLISH
BEGIN:VTIMEZONE
TZID:Pacific/Midway
X-LIC-LOCATION:Pacific/Midway
BEGIN:STANDARD
TZOFFSETFROM:-1100
TZOFFSETTO:-1100
TZNAME:SST
DTSTART:19700101T000000
END:STANDARD
END:VTIMEZONE
BEGIN:VEVENT
UID:3646443:Event:105813
DTSTAMP:20260420T124733Z
SUMMARY:Ottawa Valley Farm Show
DESCRIPTION:The Ottawa valley seed Growers Association hosts the OVFS 
 annually each March to generate financial support for an extensive lis
 t of worthy community groups and initiatives.The Ottawa Valley Seed Gr
 owers Association is pleased to host and support the Ottawa Valley Cha
 mpionship Seed, Feed and Forage Show.Click here for more info\n\nFor m
 ore information visit https://ontag.farms.com/events/ottawa-valley-far
 m-show-6
DTSTART;TZID=Pacific/Midway:20210315T090000
DTEND;TZID=Pacific/Midway:20210317T160000
CATEGORIES:farm, show
LOCATION:EY Centre 4899 Uplands Drive
WEBSITE:https://ottawafarmshow.com/
URL:https://ottawafarmshow.com/
CONTACT:613-791-3900
ORGANIZER:Ottawa Valley Seed Growers Association
ATTACH;FMTTYPE="image/jpeg":
ATTENDEE;ROLE=REQ-PARTICIPANT;PARTSTAT=ACCEPTED;RSVP=TRUE;CN="OntAG Ad
 min":https://ontag.farms.com/profile/OntAGAdmin
END:VEVENT
END:VCALENDAR
