BEGIN:VCALENDAR
PRODID:NingEventWidget-v1
VERSION:2.0
METHOD:PUBLISH
BEGIN:VTIMEZONE
TZID:Pacific/Midway
X-LIC-LOCATION:Pacific/Midway
BEGIN:STANDARD
TZOFFSETFROM:-1100
TZOFFSETTO:-1100
TZNAME:SST
DTSTART:19700101T000000
END:STANDARD
END:VTIMEZONE
BEGIN:VEVENT
UID:3646443:Event:110369
DTSTAMP:20260420T165555Z
SUMMARY:Ottawa Valley farm show
DESCRIPTION:As OVSGA celebrates 95 years of Ag in the Valley, OVSGA wo
 uld like to thank the many partners and sponsors who continue to suppo
 rt the show and all our other community initiatives.\r\nLooking forwar
 d to seeing everyone when join together again at #OVFS23. Until then, 
 here is the “95 Years of Ag in the Valley” program with a look b
 ack into the history of the OVSGA.  Onsite information, move-in schedu
 le, and opportunities. Showcase your products and services to over 12,
 000 farmers.  Meet, visit, and share your passion. Explore exhibitors,
  local food, and a carefully curated events schedule.  2023 OTTAWA VAL
 LEY CHAMPIONSHIP SEED, FEED AND FORAGE SHOW  Schedule time: Tues, Marc
 h 15, 2022 - 9:00 am – 5:00 pm Wed, March 16, 2022 - 9:00 am – 7
 :00 pm Thurs, March 17, 2022 -9:00 am – 4:00 pm  Ticket costs will b
 e $10 online and $12 at the door – children 12 and under are free.  
 Information on the show schedule and tickets sales will be posted here
  when details available.\n\nFor more information visit https://ontag.f
 arms.com/events/ottawa-valley-farm-show-7
DTSTART;TZID=Pacific/Midway:20230314T090000
DTEND;TZID=Pacific/Midway:20230316T160000
CATEGORIES:farmshow
LOCATION:EY Centre
WEBSITE:https://ottawafarmshow.com/schedule2/
URL:https://ottawafarmshow.com/schedule2/
CONTACT:613-791-3900
ORGANIZER:OVFS
ATTACH;FMTTYPE="image/jpeg":https://storage.ning.com/topology/rest/1.0
 /file/get/10607059090?profile=original
ATTENDEE;ROLE=REQ-PARTICIPANT;PARTSTAT=ACCEPTED;RSVP=TRUE;CN="OntAG Ad
 min":https://ontag.farms.com/profile/OntAGAdmin
END:VEVENT
END:VCALENDAR
