BEGIN:VCALENDAR
PRODID:NingEventWidget-v1
VERSION:2.0
METHOD:PUBLISH
BEGIN:VTIMEZONE
TZID:Pacific/Midway
X-LIC-LOCATION:Pacific/Midway
BEGIN:STANDARD
TZOFFSETFROM:-1100
TZOFFSETTO:-1100
TZNAME:SST
DTSTART:19700101T000000
END:STANDARD
END:VTIMEZONE
BEGIN:VEVENT
UID:3646443:Event:53820
DTSTAMP:20260419T011426Z
SUMMARY:PED Information Session - Pork Congress
DESCRIPTION:Ontario Pork is hosting a PED information session at Pork 
 Congress in the Mansbridge Room from 11:00am-12:00pm on both Wednesday
 , June 18 & Thursday, June 19, 2014.\nThe on-farm and economic implic
 ations of this virus will be discussed. Speakers will include veterina
 rians, economists and representatives from the Ontario Ministry of Agr
 iculture and Ontario Pork.\nStratford Rotary Complex Mansbridge Room 
 (the lower meeting room, located between the arena & the large commun
 ity hall.)\n\nFor more information visit https://ontag.farms.com/event
 s/ped-information-session-pork-congress
DTSTART;TZID=Pacific/Midway:20140618T110000
DTEND;TZID=Pacific/Midway:20140618T120000
CATEGORIES:information, session
LOCATION:Stratford Rotary Complex - Mansbridge Room
WEBSITE:
URL:
CONTACT:communications@ontariopork.on.ca
ORGANIZER:Ontario Pork
ATTACH;FMTTYPE="image/jpeg":
ATTENDEE;ROLE=REQ-PARTICIPANT;PARTSTAT=ACCEPTED;RSVP=TRUE;CN="Mary Jan
 e Quinn":https://ontag.farms.com/profile/MaryJaneQuinn
END:VEVENT
END:VCALENDAR
