BEGIN:VCALENDAR
PRODID:NingEventWidget-v1
VERSION:2.0
METHOD:PUBLISH
BEGIN:VTIMEZONE
TZID:Pacific/Midway
X-LIC-LOCATION:Pacific/Midway
BEGIN:STANDARD
TZOFFSETFROM:-1100
TZOFFSETTO:-1100
TZNAME:SST
DTSTART:19700101T000000
END:STANDARD
END:VTIMEZONE
BEGIN:VEVENT
UID:3646443:Event:50354
DTSTAMP:20260422T194644Z
SUMMARY:PED Telephone Town Hall
DESCRIPTION:PED Telephone Town Hall For Industry on November 27th Onta
 rio Pork is hosting a Telephone Town Hall on Wednesday, November 27th 
 between 12:00 and 1:00PM EST for the provincial pork industry. We will
  be automatically dialing out to our producers and others in the pork 
 industry who have registered for the event and have provided us with t
 heir phone number.\n\nFor more information visit https://ontag.farms.c
 om/events/ped-telephone-town-hall
DTSTART;TZID=Pacific/Midway:20131127T120000
DTEND;TZID=Pacific/Midway:20131127T130000
CATEGORIES:meeting
LOCATION:Telephone Town Hall
WEBSITE:
URL:
CONTACT:
ORGANIZER;CN="OntAG Admin":https://ontag.farms.com/profile/OntAGAdmin
ATTACH;FMTTYPE="image/jpeg":
ATTENDEE;ROLE=REQ-PARTICIPANT;PARTSTAT=ACCEPTED;RSVP=TRUE;CN="OntAG Ad
 min":https://ontag.farms.com/profile/OntAGAdmin
END:VEVENT
END:VCALENDAR
