BEGIN:VCALENDAR
PRODID:NingEventWidget-v1
VERSION:2.0
METHOD:PUBLISH
BEGIN:VTIMEZONE
TZID:Pacific/Midway
X-LIC-LOCATION:Pacific/Midway
BEGIN:STANDARD
TZOFFSETFROM:-1100
TZOFFSETTO:-1100
TZNAME:SST
DTSTART:19700101T000000
END:STANDARD
END:VTIMEZONE
BEGIN:VEVENT
UID:3646443:Event:4078
DTSTAMP:20260421T171417Z
SUMMARY:Permit To Take Water Workshop
DESCRIPTION:This is a half day session that is put on by OMAFRA in con
 junction with the Kent Federation of Agriculture.\n\nThere is no fee t
 o attend. Participants are requested to pre-register by calling OMAFRA
 's Ag Information Contact Centre at 1-877-424-1300.\nFor more informat
 ion on Permit to Take Water Workshops in other regions, please visit t
 he web link at http://www.omafra.gov.on.ca/english/engineer/facts/pttw
 _course.htm\n\nFor more information visit https://ontag.farms.com/even
 ts/permit-to-take-water-workshop-1
DTSTART;TZID=Pacific/Midway:20100329T100000
DTEND;TZID=Pacific/Midway:20100329T130000
CATEGORIES:workshop
LOCATION:Pelee Island Winery
WEBSITE:http://www.omafra.gov.on.ca/english/engineer/facts/pttw_course
 .htm
URL:http://www.omafra.gov.on.ca/english/engineer/facts/pttw_course.htm
CONTACT:
ORGANIZER:OMAFRA and the Kent Federation of Agriculture
ATTACH;FMTTYPE="image/jpeg":
ATTENDEE;ROLE=REQ-PARTICIPANT;PARTSTAT=ACCEPTED;RSVP=TRUE;CN=ontarioto
 mato:https://ontag.farms.com/profile/ontariotomato
END:VEVENT
END:VCALENDAR
