BEGIN:VCALENDAR
PRODID:NingEventWidget-v1
VERSION:2.0
METHOD:PUBLISH
BEGIN:VTIMEZONE
TZID:Pacific/Midway
X-LIC-LOCATION:Pacific/Midway
BEGIN:STANDARD
TZOFFSETFROM:-1100
TZOFFSETTO:-1100
TZNAME:SST
DTSTART:19700101T000000
END:STANDARD
END:VTIMEZONE
BEGIN:VEVENT
UID:3646443:Event:28392
DTSTAMP:20260423T155401Z
SUMMARY:PERTH - OSCIA - Growing Your Farm Profits Workshops
DESCRIPTION:PERTH  - Nov 25th and Dec 2th\nKate Procter  519-887-895
 1\nperthGYFP@ontariosoilcrop.org\n \nGrowing Your Farm Profits worksh
 ops\nGrowing Your Farm Profits is the place to start planning for your
  business success.\n \nThe two-day workshop will give you the tools n
 eeded to assess your current farm management practices and understand 
 how proactive planning can influence effective decision making.\n \nO
 nline workshop registration for Ontario Farmers now available:\nFor On
 tario farmers, to register for a GYFP educational workshop, they can n
 ow register online:\nVisit www.ontariosoilcrop.org/workshops, locate 
 the appropriate workshop and then register online\nWorkshop dates and 
 location are subject to change - Please check the website from the lin
 k below: \nWorkshop dates, locations and more information>>\n \n\nFo
 r more information visit https://ontag.farms.com/events/perth-oscia-gr
 owing-your-farm-profits-workshops-1
DTSTART;TZID=Pacific/Midway:20111202T000000
DTEND;TZID=Pacific/Midway:20111202T235900
CATEGORIES:workshop
LOCATION:Perth East Recreation Complex
WEBSITE:http://www.ontariosoilcrop.org/en/bdfbworkshops/default.htm
URL:http://www.ontariosoilcrop.org/en/bdfbworkshops/default.htm
CONTACT:
ORGANIZER:Ontario Soil and Crop Improvement Association
ATTACH;FMTTYPE="image/jpeg":http://storage.ning.com/topology/rest/1.0/
 file/get/1091511593?profile=original
ATTENDEE;ROLE=REQ-PARTICIPANT;PARTSTAT=ACCEPTED;RSVP=TRUE;CN="OntAG Ad
 min":https://ontag.farms.com/profile/OntAGAdmin
END:VEVENT
END:VCALENDAR
