BEGIN:VCALENDAR
PRODID:NingEventWidget-v1
VERSION:2.0
METHOD:PUBLISH
BEGIN:VTIMEZONE
TZID:Pacific/Midway
X-LIC-LOCATION:Pacific/Midway
BEGIN:STANDARD
TZOFFSETFROM:-1100
TZOFFSETTO:-1100
TZNAME:SST
DTSTART:19700101T000000
END:STANDARD
END:VTIMEZONE
BEGIN:VEVENT
UID:3646443:Event:75170
DTSTAMP:20260420T213142Z
SUMMARY:Plant Science Congress 2019
DESCRIPTION:The Theme of the Plant Science -2019 is “Frontiers in Pl
 ant Sciences” which covers the wide range of critically important se
 ssions in the field of Plant Sciences, Agricultural Science, Food Sc
 ience, Plant and Soil Science, Plant Biology. The objective of this m
 eeting is to share the knowledge on the Plant Biology and the Holis
 tic Medicine in Plant Sciences. The Scientists, Professors, academici
 ans and young inspired student scientists from all around the world in
 volved in researchers at the cutting edge in the study of the Plant Sc
 iences.\n\nFor more information visit https://ontag.farms.com/events/p
 lant-science-congress-2019
DTSTART;TZID=Pacific/Midway:20190408T083000
DTEND;TZID=Pacific/Midway:20190409T180000
CATEGORIES:informative, sessions
LOCATION:200 Hillside Ave,
WEBSITE:https://www.ologymavens.com/cme/agri/plant-science-conferences
URL:https://www.ologymavens.com/cme/agri/plant-science-conferences
CONTACT:+1 705 881 8889, +1 705 881 8887
ORGANIZER;CN="OntAG Admin":https://ontag.farms.com/profile/OntAGAdmin
ATTACH;FMTTYPE="image/jpeg":
ATTENDEE;ROLE=REQ-PARTICIPANT;PARTSTAT=ACCEPTED;RSVP=TRUE;CN="OntAG Ad
 min":https://ontag.farms.com/profile/OntAGAdmin
END:VEVENT
END:VCALENDAR
