BEGIN:VCALENDAR
PRODID:NingEventWidget-v1
VERSION:2.0
METHOD:PUBLISH
BEGIN:VTIMEZONE
TZID:Pacific/Midway
X-LIC-LOCATION:Pacific/Midway
BEGIN:STANDARD
TZOFFSETFROM:-1100
TZOFFSETTO:-1100
TZNAME:SST
DTSTART:19700101T000000
END:STANDARD
END:VTIMEZONE
BEGIN:VEVENT
UID:3646443:Event:7927
DTSTAMP:20260424T020808Z
SUMMARY:Poultry Industry Conference & Exhibition
DESCRIPTION:\nThousands of poultry farmers, industry partners and supp
 liers flock to this event, now in its 54th year.\nThe two-day show is 
 a blend of trade show and professional development featuring networkin
 g opportunities, a wide array of products & services, guest presentati
 ons and informative seminars. With 57,000 square feet of exhibit space
  and more than 160 booths to visit, the Poultry Industry Conference & 
 Exhibition is recognized as a must-do event for anyone associated with
  this important agri-business.Admission:$12.00 2-day pass - Online or 
 Advance- Buy tickets online or purchase in advance at Guest Services (
 open 9am-9pm, 7 days/wk)$15.00 2-day pass @ the doorChildren 10 & unde
 r FreeParking:FREE!\n\nFor more information visit https://ontag.farms.
 com/events/poultry-industry-conference-1
DTSTART;TZID=Pacific/Midway:20110419T090000
DTEND;TZID=Pacific/Midway:20110420T170000
CATEGORIES:poultry, industry, conference
LOCATION:Western Fair Entertainment Centre
WEBSITE:http://www.westernfair.com/shows/poultry.html
URL:http://www.westernfair.com/shows/poultry.html
CONTACT:(800) 619-4629 or locally (519) 438-7203
ORGANIZER:
ATTACH;FMTTYPE="image/jpeg":http://storage.ning.com/topology/rest/1.0/
 file/get/1091510452?profile=original
ATTENDEE;ROLE=REQ-PARTICIPANT;PARTSTAT=ACCEPTED;RSVP=TRUE;CN="OntAG Ad
 min":https://ontag.farms.com/profile/OntAGAdmin
END:VEVENT
END:VCALENDAR
