BEGIN:VCALENDAR
PRODID:NingEventWidget-v1
VERSION:2.0
METHOD:PUBLISH
BEGIN:VTIMEZONE
TZID:Pacific/Midway
X-LIC-LOCATION:Pacific/Midway
BEGIN:STANDARD
TZOFFSETFROM:-1100
TZOFFSETTO:-1100
TZNAME:SST
DTSTART:19700101T000000
END:STANDARD
END:VTIMEZONE
BEGIN:VEVENT
UID:3646443:Event:72703
DTSTAMP:20260422T201107Z
SUMMARY:Poultry Industry Council Fundraiser Golf Tournament
DESCRIPTION:PIC's Fundraiser Golf Tournament will be held on Septembe
 r 5, 2018 at the Foxwood Golf and Country Club in Baden, Ontario. Regi
 stration will open in June of 2018\nPIC’s tournaments always offers
  a fun-filled day of golf along with an excellent opportunity to socia
 lize and network with other industry members. Your registration and sp
 onsorships support future education and extension projects and events 
 that will benefit Ontario’s poultry industry. The cost will be $150 
 for PIC Members – $170 for Non-Members – $45 Dinner only.\n \nSc
 hedule of Events\n\nRegistration begins at 8:30am\nTee-off time is at 
 10:00am – “Shot Gun” start – 18 Holes, Best Ball format\nDinne
 r at approximately 4:00pm\n\nFull Day Registration Includes\n\nGreen f
 ees and golf cart;\nContinental breakfast, Club House lunch and dinner
 ;\nA chance at winning $10,000 at the “Hole in One” ;\nContests i
 nclude the best team, most persistent swingers, putting contest, stra
 ightest drive and closest to the pin;\nA gift from the prize table; an
 d\nA $50 tax receipt will be issued for the donation portion of the re
 gistration fee.\n\nThe following Sponsorship Opportunities will be ava
 ilable:\n\nGolf carts               $1,000 – Executive 
 Level\nDrink Tickets         $1,000 – Executive Level\nDrink
  Tickets         $1,000 – Executive Level\nSpecialty holes a
 nd contest $500\nLunch                     $  50
 0\nLunch Beverage     $  350\nGolf Hole             
   $  350\nPrize Table            $  250\n\nFollow us @Po
 ultryIndCou and tweet along with the hashtag #PICGolf18\n\nFor more in
 formation visit https://ontag.farms.com/events/poultry-industry-counci
 l-fundraiser-golf-tournament
DTSTART;TZID=Pacific/Midway:20180905T083000
DTEND;TZID=Pacific/Midway:20180905T160000
CATEGORIES:fundraiser, golf, tournament
LOCATION:Foxwood Golf and Country Club
WEBSITE:http://www.poultryindustrycouncil.ca/education-extension-event
 s/golf-tournament/
URL:http://www.poultryindustrycouncil.ca/education-extension-events/go
 lf-tournament/
CONTACT:5198370284
ORGANIZER;CN="Casey Riddle":https://ontag.farms.com/profile/CaseyRiddl
 e
ATTACH;FMTTYPE="image/jpeg":http://storage.ning.com/topology/rest/1.0/
 file/get/1091551181?profile=original
ATTENDEE;ROLE=REQ-PARTICIPANT;PARTSTAT=ACCEPTED;RSVP=TRUE;CN="Casey Ri
 ddle":https://ontag.farms.com/profile/CaseyRiddle
END:VEVENT
END:VCALENDAR
