BEGIN:VCALENDAR
PRODID:NingEventWidget-v1
VERSION:2.0
METHOD:PUBLISH
BEGIN:VTIMEZONE
TZID:Pacific/Midway
X-LIC-LOCATION:Pacific/Midway
BEGIN:STANDARD
TZOFFSETFROM:-1100
TZOFFSETTO:-1100
TZNAME:SST
DTSTART:19700101T000000
END:STANDARD
END:VTIMEZONE
BEGIN:VEVENT
UID:3646443:Event:72786
DTSTAMP:20260421T202557Z
SUMMARY:Poultry Producer Update
DESCRIPTION:Since 2009, PIC and OMAFRA have been delivering producer 
 update sessions through a joint effort to keep Ontario poultry produc
 ers and industry representatives up to date and informed on relevant t
 opics and emerging issues facing our sector.  The program highlights
  some of the significant topics affecting our industry now and in the 
 future. The Producer Updates are also made possible through generous s
 ponsorships provided by many poultry industry stakeholders.\nOur last 
 session is scheduled for February 21st at Mount Brydges. The pre-regi
 stration fee is $55.00, and will close 24 hours prior to session star
 t time. Late registration, or at the door registration, is $70.00. T
 he session will begin at 10:00 am to end at approximately 3:30 pm at t
 he Cardoc Community Centre. Doors will open at 9:15 am.\n\nFollow us 
 @PoultryIndCou and tweet along with the hashtag #PICMtBrydges18\n\nFor
  more information visit https://ontag.farms.com/events/poultry-produce
 r-update
DTSTART;TZID=Pacific/Midway:20180221T100000
DTEND;TZID=Pacific/Midway:20180221T153000
CATEGORIES:conference
LOCATION:Cardoc Community Centre
WEBSITE:http://www.poultryindustrycouncil.ca/education-extension-event
 s/producer-updates/
URL:http://www.poultryindustrycouncil.ca/education-extension-events/pr
 oducer-updates/
CONTACT:5198370284
ORGANIZER;CN="Casey Riddle":https://ontag.farms.com/profile/CaseyRiddl
 e
ATTACH;FMTTYPE="image/jpeg":http://storage.ning.com/topology/rest/1.0/
 file/get/1091549994?profile=original
ATTENDEE;ROLE=REQ-PARTICIPANT;PARTSTAT=ACCEPTED;RSVP=TRUE;CN="Casey Ri
 ddle":https://ontag.farms.com/profile/CaseyRiddle
END:VEVENT
END:VCALENDAR
