BEGIN:VCALENDAR
PRODID:NingEventWidget-v1
VERSION:2.0
METHOD:PUBLISH
BEGIN:VTIMEZONE
TZID:Pacific/Midway
X-LIC-LOCATION:Pacific/Midway
BEGIN:STANDARD
TZOFFSETFROM:-1100
TZOFFSETTO:-1100
TZNAME:SST
DTSTART:19700101T000000
END:STANDARD
END:VTIMEZONE
BEGIN:VEVENT
UID:3646443:Event:114520
DTSTAMP:20260420T172215Z
SUMMARY:Practical opportunities to navigate the future of feed showcas
 ed at ANCC 2025 in Niagara Falls
DESCRIPTION:Top national feed industry event features newest research,
  networking and more\r\n Advances in animal nutrition research are gen
 erating exciting opportunities for the livestock and feed sector.\r\nP
 articipants from across the animal nutrition industry will learn about
  the latest developments under the theme “Practical opportunities to
  navigate the future of feed” at the 9th annual Animal Nutrition Con
 ference of Canada (ANCC), from May 7-9 in Niagara Falls, Ontario.\r\nT
 he event is hosted by the Animal Nutrition Association of Canada (ANAC
 ). Registration is now open at www.animalnutritionconference.ca.\n\nFo
 r more information visit https://ontag.farms.com/events/practical-oppo
 rtunities-to-navigate-the-future-of-feed-showcased-
DTSTART;TZID=Pacific/Midway:20250507T090000
DTEND;TZID=Pacific/Midway:20250509T170000
CATEGORIES:conference
LOCATION:Sheraton Fallsview
WEBSITE:http://www.animalnutritionconference.ca
URL:http://www.animalnutritionconference.ca
CONTACT:(613) 241-6421 ext/poste 3
ORGANIZER:Animal Nutrition Conference of Canada
ATTACH;FMTTYPE="image/jpeg":https://storage.ning.com/topology/rest/1.0
 /file/get/13515710852?profile=original
ATTENDEE;ROLE=REQ-PARTICIPANT;PARTSTAT=ACCEPTED;RSVP=TRUE;CN="OntAG Ad
 min":https://ontag.farms.com/profile/OntAGAdmin
END:VEVENT
END:VCALENDAR
