BEGIN:VCALENDAR
PRODID:NingEventWidget-v1
VERSION:2.0
METHOD:PUBLISH
BEGIN:VTIMEZONE
TZID:Pacific/Midway
X-LIC-LOCATION:Pacific/Midway
BEGIN:STANDARD
TZOFFSETFROM:-1100
TZOFFSETTO:-1100
TZNAME:SST
DTSTART:19700101T000000
END:STANDARD
END:VTIMEZONE
BEGIN:VEVENT
UID:3646443:Event:67774
DTSTAMP:20260421T105927Z
SUMMARY:Practical Tips for Raising Goats
DESCRIPTION:Joining us for a second year, Elo Bowman of Lebanon ON, wi
 ll share his tips and experiences with raising goats.  This year he w
 ill hone in on the journey from conventional health, to CAE negative s
 tatus.  He will also delve into milk recording and record keeping.  
 There will be a Q and A session.  This will be a highly informative a
 fternoon.  Don’t miss it! Sponsored by Ontario Dairy Goat Co-operat
 ive.\nWhen?      Wed. Mar. 22, 2017, 1:00 to 3:30 pm\nCost?   
      $10.00 per person\nPre-Register By: Fri. Mar.17, 2017\n \n\n
 For more information visit https://ontag.farms.com/events/practical-ti
 ps-for-raising-goats
DTSTART;TZID=Pacific/Midway:20170322T130000
DTEND;TZID=Pacific/Midway:20170322T153000
CATEGORIES:course
LOCATION:Grey Ag Services Boardroom
WEBSITE:http://www.greyagservices.ca/index.php/grey-agricultural-servi
 ces/winter-course-registration
URL:http://www.greyagservices.ca/index.php/grey-agricultural-services/
 winter-course-registration
CONTACT:519 986-3756
ORGANIZER:Grey County Agricultural Services Centre
ATTACH;FMTTYPE="image/jpeg":http://storage.ning.com/topology/rest/1.0/
 file/get/1091547494?profile=original
ATTENDEE;ROLE=REQ-PARTICIPANT;PARTSTAT=ACCEPTED;RSVP=TRUE;CN="Grey Bru
 ce Farmers' Week":https://ontag.farms.com/profile/GreyBruceFarmersWeek
END:VEVENT
END:VCALENDAR
