BEGIN:VCALENDAR
PRODID:NingEventWidget-v1
VERSION:2.0
METHOD:PUBLISH
BEGIN:VTIMEZONE
TZID:Pacific/Midway
X-LIC-LOCATION:Pacific/Midway
BEGIN:STANDARD
TZOFFSETFROM:-1100
TZOFFSETTO:-1100
TZNAME:SST
DTSTART:19700101T000000
END:STANDARD
END:VTIMEZONE
BEGIN:VEVENT
UID:3646443:Event:109629
DTSTAMP:20260420T224842Z
SUMMARY:Premier Equipment Norwich Grand Opening on 17th May
DESCRIPTION:We are excited. We had over 1000 people attend our event t
 his past Friday in Listowel. We are anticipating nearly double that in
  Norwich this week!\r\nWe’ve made an investment in the future of the
  industry - putting up 2 new buildings during COVID (one with the larg
 est sq footage of all of Premier’s locations), increasing parts and 
 service capacity to 150% compared to the old locations combined, gathe
 ring 4 teams into 2 large teams (Listowel – Mount Forest together/Co
 urtland and Simcoe together) to promote better work-life balance for s
 taff from the smaller stores and potential for individuals to speciali
 ze and further prefect their skills (longer, deeper bench). We’re ce
 lebrating these things, and inviting folks in to check it out.\r\nFood
 , Door Prizes, Tours, and Kids Activities!\r\nMore info on the facilit
 ies and the event can be found at: https://www.premierequipment.ca/new
 s/\r\nFestivities start at 3pm, ribbon cutting is at 4pm!\r\nNorwich l
 ocation is at corner of Maple Dell Rd and Hwy #59, just south of Norwi
 ch.\n\nFor more information visit https://ontag.farms.com/events/premi
 er-equipment-norwich-grand-opening-on-7th-may
DTSTART;TZID=Pacific/Midway:20220617T150000
DTEND;TZID=Pacific/Midway:20220617T210000
CATEGORIES:inauguration, ceremony
LOCATION:265721 Maple Dell Road
WEBSITE:https://www.premierequipment.ca/event-registration/norwich-gra
 nd-opening/
URL:https://www.premierequipment.ca/event-registration/norwich-grand-o
 pening/
CONTACT:519-688-1011
ORGANIZER:Premier Equipment Norwich
ATTACH;FMTTYPE="image/jpeg":https://storage.ning.com/topology/rest/1.0
 /file/get/10573024095?profile=original
ATTENDEE;ROLE=REQ-PARTICIPANT;PARTSTAT=ACCEPTED;RSVP=TRUE;CN="OntAG Ad
 min":https://ontag.farms.com/profile/OntAGAdmin
END:VEVENT
END:VCALENDAR
