BEGIN:VCALENDAR
PRODID:NingEventWidget-v1
VERSION:2.0
METHOD:PUBLISH
BEGIN:VTIMEZONE
TZID:Pacific/Midway
X-LIC-LOCATION:Pacific/Midway
BEGIN:STANDARD
TZOFFSETFROM:-1100
TZOFFSETTO:-1100
TZNAME:SST
DTSTART:19700101T000000
END:STANDARD
END:VTIMEZONE
BEGIN:VEVENT
UID:3646443:Event:64779
DTSTAMP:20260422T155211Z
SUMMARY:Profitable Pastures
DESCRIPTION:The Ontario Forage Council is proud to announce Profitable
  Pastures 2016!  This year’s event will take place in Elmwood, ON a
 t the Elmwood Community Centre.  This year’s keynote speaker will b
 e Juan Alvez, Pasture Program Technical Coordinator at the University 
 of Vermont.  Supporting speakers will include; Bill Deen, Associate P
 rofessor Plant Agriculture-University of Guelph, as well as a producer
  panel.  Don’t miss this exciting day of pasture management experti
 se!\nRegistration cost is $40/person and includes a hot roast beef lun
 ch.\n\nFor more information visit https://ontag.farms.com/events/profi
 table-pastures-1
DTSTART;TZID=Pacific/Midway:20160309T100000
DTEND;TZID=Pacific/Midway:20160309T153000
CATEGORIES:conference, and, trade, show
LOCATION:Elmwood Community Centre
WEBSITE:http://www.ontarioforagecouncil.com/programs/profitable-pastur
 es
URL:http://www.ontarioforagecouncil.com/programs/profitable-pastures
CONTACT:1-877-892-8663
ORGANIZER;CN="Ontario Forage Council":https://ontag.farms.com/profile/
 OntarioForageCouncil403
ATTACH;FMTTYPE="image/jpeg":
ATTENDEE;ROLE=REQ-PARTICIPANT;PARTSTAT=ACCEPTED;RSVP=TRUE;CN="Ontario 
 Forage Council":https://ontag.farms.com/profile/OntarioForageCouncil40
 3
END:VEVENT
END:VCALENDAR
