BEGIN:VCALENDAR
PRODID:NingEventWidget-v1
VERSION:2.0
METHOD:PUBLISH
BEGIN:VTIMEZONE
TZID:Pacific/Midway
X-LIC-LOCATION:Pacific/Midway
BEGIN:STANDARD
TZOFFSETFROM:-1100
TZOFFSETTO:-1100
TZNAME:SST
DTSTART:19700101T000000
END:STANDARD
END:VTIMEZONE
BEGIN:VEVENT
UID:3646443:Event:60470
DTSTAMP:20260420T220509Z
SUMMARY:Profitable Pastures
DESCRIPTION:2015%20Profitable%20Patures-poster.jpg\nProfitable Pasture
 s will take place on March 17th at the Elmwood Community Centre on Mar
 ch 17th, 2015.  This years' keynote speaker will be Joshua Dukart. Jo
 shua is a Certified Educator of Holistic Management who speaks and tea
 ches regularly throughout the United States and Canada. Joshua’s car
 eer path started as an Agricultural & Bio-systems engineer, but has ev
 olved into a professional role of educator, facilitator, and mentor. T
 hrough this progression was born a consulting business that works with
  land managers, families, and organizations in assisting them with ach
 ieving sustainable balance of people, finances, and resources.\nJoshua
  also works for the Burleigh County Soil Conservation District. This s
 oil health team serves as an educational and support network for agric
 ultural producers in developing grazing, cropping, gardening, and cove
 r cropping plans for the purpose of enhancing soil, plant, animal, and
  human health.\nAdditional supporting speakers TBD.\nSome of the mater
 ial covered at this event will include; the benefits of cover crops, p
 asture establishment, watering systems, exclusion fencing, stream cros
 sings and more!\n \n\nFor more information visit https://ontag.farms.
 com/events/profitable-pastures
DTSTART;TZID=Pacific/Midway:20150317T100000
DTEND;TZID=Pacific/Midway:20150317T150000
CATEGORIES:conference
LOCATION:Elmwood Community Centre
WEBSITE:https://www.google.ca/maps/place/38+Queen+St+W,+Elmwood,+ON+N0
 G+1S0/@44.2410634,-81.060245,17z/data=!3m1!4b1!4m2!3m1!1s0x882991264fb
 87e43:0xd00e8ed1e5fbf844
URL:https://www.google.ca/maps/place/38+Queen+St+W,+Elmwood,+ON+N0G+1S
 0/@44.2410634,-81.060245,17z/data=!3m1!4b1!4m2!3m1!1s0x882991264fb87e4
 3:0xd00e8ed1e5fbf844
CONTACT:1-877-892-8663
ORGANIZER;CN="Ontario Forage Council":https://ontag.farms.com/profile/
 OntarioForageCouncil403
ATTACH;FMTTYPE="image/jpeg":http://storage.ning.com/topology/rest/1.0/
 file/get/1091539127?profile=original
ATTENDEE;ROLE=REQ-PARTICIPANT;PARTSTAT=ACCEPTED;RSVP=TRUE;CN="Ontario 
 Forage Council":https://ontag.farms.com/profile/OntarioForageCouncil40
 3
END:VEVENT
END:VCALENDAR
