BEGIN:VCALENDAR
PRODID:NingEventWidget-v1
VERSION:2.0
METHOD:PUBLISH
BEGIN:VTIMEZONE
TZID:Pacific/Midway
X-LIC-LOCATION:Pacific/Midway
BEGIN:STANDARD
TZOFFSETFROM:-1100
TZOFFSETTO:-1100
TZNAME:SST
DTSTART:19700101T000000
END:STANDARD
END:VTIMEZONE
BEGIN:VEVENT
UID:3646443:Event:4626
DTSTAMP:20260423T073809Z
SUMMARY:Progressive Agriculture / Chatham-Kent Farm Safety Day
DESCRIPTION:Progressive Agriculture / Chatham-Kent Farm Safety Day\nDa
 te - July 21, 2010\nTime - All Day Event\nPlace - Ridgetown Campus, Un
 iversity of Guelph\nContact Name - Sue Kelner 519-674-1584\nEmail - sk
 elner@ridgetown.uoguelph.ca\n\nFor more information visit https://onta
 g.farms.com/events/progressive-agriculture
DTSTART;TZID=Pacific/Midway:20100721T000000
DTEND;TZID=Pacific/Midway:20100721T235900
CATEGORIES:farm, safety, day
LOCATION:Ridgetown Campus, University of Guelph
WEBSITE:http://ridgetownc.uoguelph.ca
URL:http://ridgetownc.uoguelph.ca
CONTACT:Sue Kelner 519-674-1584
ORGANIZER:Ridgetown College
ATTACH;FMTTYPE="image/jpeg":
ATTENDEE;ROLE=REQ-PARTICIPANT;PARTSTAT=ACCEPTED;RSVP=TRUE;CN=AgOntario
 :https://ontag.farms.com/profile/AgOntario
END:VEVENT
END:VCALENDAR
