BEGIN:VCALENDAR
PRODID:NingEventWidget-v1
VERSION:2.0
METHOD:PUBLISH
BEGIN:VTIMEZONE
TZID:Pacific/Midway
X-LIC-LOCATION:Pacific/Midway
BEGIN:STANDARD
TZOFFSETFROM:-1100
TZOFFSETTO:-1100
TZNAME:SST
DTSTART:19700101T000000
END:STANDARD
END:VTIMEZONE
BEGIN:VEVENT
UID:3646443:Event:7400
DTSTAMP:20260424T100843Z
SUMMARY:Project Management Breakthroughs
DESCRIPTION:The Rural Ontario Insitute, in partnership with Andy Sherw
 ood and PROGRESSIVE TRAINING.CA, is offering the following 3 day progr
 am on Project Management. The focus of the workshop is on the manageme
 nt of work in order to reach a clear set of outcomes. About 70% of the
  program is spent doing increasingly complex assigned projects as part
  of a team. The program runs from 8:30 a.m. to 5:00 p.m. each day.\n\n
 The cost is $1,495.00 with refreshments and lunch included each day. D
 iscounts are available for multiple participants from one organization
 .\n\nFor more information visit https://ontag.farms.com/events/project
 -management
DTSTART;TZID=Pacific/Midway:20110228T083000
DTEND;TZID=Pacific/Midway:20110302T170000
CATEGORIES:workshop
LOCATION:Gencor Meeting Room, 5653 Highway #6 N, Guelph, ON
WEBSITE:http://www.ruralontarioinstitute.ca
URL:http://www.ruralontarioinstitute.ca
CONTACT:519-826-4204
ORGANIZER;CN="Rural Ontario Institute":https://ontag.farms.com/profile
 /RuralOntarioInstitute
ATTACH;FMTTYPE="image/jpeg":http://storage.ning.com/topology/rest/1.0/
 file/get/1091503707?profile=original
ATTENDEE;ROLE=REQ-PARTICIPANT;PARTSTAT=ACCEPTED;RSVP=TRUE;CN="Rural On
 tario Institute":https://ontag.farms.com/profile/RuralOntarioInstitute
END:VEVENT
END:VCALENDAR
