BEGIN:VCALENDAR
PRODID:NingEventWidget-v1
VERSION:2.0
METHOD:PUBLISH
BEGIN:VTIMEZONE
TZID:Pacific/Midway
X-LIC-LOCATION:Pacific/Midway
BEGIN:STANDARD
TZOFFSETFROM:-1100
TZOFFSETTO:-1100
TZNAME:SST
DTSTART:19700101T000000
END:STANDARD
END:VTIMEZONE
BEGIN:VEVENT
UID:3646443:Event:75077
DTSTAMP:20260421T172509Z
SUMMARY:Pulse Science and Technology Forum
DESCRIPTION:\r\nThe AOCS Pulse Science and Technology Forum is a brand
  new event offered by the American Oil Chemists' Society (AOCS) in coo
 peration with the Global Pulse Confederation, Pulse Canada, Protein In
 dustries Canada and the Protein Highway. The inaugural Pulse Forum wil
 l be held November 5-7, 2019, in Toronto, Canada. As the global popula
 tion continues to grow, the demand for plant proteins will rise, neces
 sitating rapid developments in the science and technology of alternati
 ve proteins, including those sourced from pulse crops. Join your colle
 agues from around the globe to explore the future of pulses and access
  the latest knowledge on the analysis, nutrition and applications of p
 lant proteins. Key takeaways will include:\r\n\r\nApplications in huma
 n health\r\nLabeling, legal requirements and quality control\r\nMarket
 ing nutritional benefits to consumers\r\nRegulatory and economic frame
 works required for success\r\nScientific best practices and analytical
  methods\r\n\r\nJoin our email list for up-to-date program information
  and registration details. Who should attend?\r\n\r\n\r\nThe AOCS Puls
 e Science and Technology Forum is designed for researchers, academics 
 and industry professionals working in the research and development of 
 alternative proteins, including:\r\n\r\nIngredient producers\r\nProduc
 t manufacturers\r\nFood science laboratories\r\nCollege and University
  food science faculty\r\nPulse crop growers and exporters\r\n\r\nAs an
  attendee, you will have access to a global network of knowledge and r
 esources through AOCS. In addition to exploring the latest scientific 
 and technological advancements, attending the Pulse Forum will allow y
 ou to connect with your peers who are working to develop and implement
  new solutions for the application of pulses and plant proteins.\r\nRe
 gistration is scheduled to open in May 2019.Space is limited, so be su
 re to register early and secure your spot at the inaugural AOCS Pulse 
 Science and Technology Forum.\r\n\n\nFor more information visit https:
 //ontag.farms.com/events/pulse-science-and-technology-forum
DTSTART;TZID=Pacific/Midway:20191105T000000
DTEND;TZID=Pacific/Midway:20191107T235900
CATEGORIES:forum
LOCATION:The Courtyard Marriott
WEBSITE:https://www.aocs.org/attend-meetings/pulse-science-and-technol
 ogy-forum
URL:https://www.aocs.org/attend-meetings/pulse-science-and-technology-
 forum
CONTACT:+1 217-693-4831
ORGANIZER:American Oil Chemists' Society (AOCS)
ATTACH;FMTTYPE="image/jpeg":
ATTENDEE;ROLE=REQ-PARTICIPANT;PARTSTAT=ACCEPTED;RSVP=TRUE;CN="OntAG Ad
 min":https://ontag.farms.com/profile/OntAGAdmin
END:VEVENT
END:VCALENDAR
