BEGIN:VCALENDAR
PRODID:NingEventWidget-v1
VERSION:2.0
METHOD:PUBLISH
BEGIN:VTIMEZONE
TZID:Pacific/Midway
X-LIC-LOCATION:Pacific/Midway
BEGIN:STANDARD
TZOFFSETFROM:-1100
TZOFFSETTO:-1100
TZNAME:SST
DTSTART:19700101T000000
END:STANDARD
END:VTIMEZONE
BEGIN:VEVENT
UID:3646443:Event:60062
DTSTAMP:20260421T202642Z
SUMMARY:Quickbooks-Your Questions Answered
DESCRIPTION:Are you using Quick Books, but you keep running into issue
 s that you do not know how to handle?  Would you like a primer on: ac
 count and item creation; HST reporting; general journal entries, etc.?
  A special segment on tracking grain, straw, and hay inventory will be
  added this year.  In this interactive, hands-on, session, you will b
 e guided step by step through the solutions to your Quick Books proble
 ms.   Our course instructor, Jenny Peel, Quick Books Pro Advisor, wi
 ll facilitate this interactive session.  This will be a hands on your
  lap top, step by step course.  Participants will create the course c
 ontent based on the answers provided during the pre-registration proce
 ss. Jenny will guide you through the solutions. It is strongly encoura
 ged that participants bring laptops with Quick Books®   programs in
 stalled, to the course. Come armed with questions.\nDate: Monday Febru
 ary 9th, 2015\nTime: 1:30 p.m. to 5:00 p.m.\nCost: $85.00   Price in
 cludes HST\nPre-Register By:  Feb. 2, 2015\nwww.greyagservices.ca for
  information on more winter courses available \n \n \n\nFor more in
 formation visit https://ontag.farms.com/events/quickbooks-your-questio
 ns-answered
DTSTART;TZID=Pacific/Midway:20150209T133000
DTEND;TZID=Pacific/Midway:20150209T170000
CATEGORIES:information, session
LOCATION:Grey Ag Services Boardroom
WEBSITE:https://www.google.ca/maps/place/206+Toronto+St+S,+Markdale,+O
 N+N0C+1H0/@44.3139665,-80.6402805,17z/data=!3m1!4b1!4m2!3m1!1s0x882a22
 a90f79b813:0x93d22000995990a5
URL:https://www.google.ca/maps/place/206+Toronto+St+S,+Markdale,+ON+N0
 C+1H0/@44.3139665,-80.6402805,17z/data=!3m1!4b1!4m2!3m1!1s0x882a22a90f
 79b813:0x93d22000995990a5
CONTACT:(519)986-3756
ORGANIZER:Grey Ag Services
ATTACH;FMTTYPE="image/jpeg":
ATTENDEE;ROLE=REQ-PARTICIPANT;PARTSTAT=ACCEPTED;RSVP=TRUE;CN="Grey Bru
 ce Farmers' Week":https://ontag.farms.com/profile/GreyBruceFarmersWeek
END:VEVENT
END:VCALENDAR
