BEGIN:VCALENDAR
PRODID:NingEventWidget-v1
VERSION:2.0
METHOD:PUBLISH
BEGIN:VTIMEZONE
TZID:Pacific/Midway
X-LIC-LOCATION:Pacific/Midway
BEGIN:STANDARD
TZOFFSETFROM:-1100
TZOFFSETTO:-1100
TZNAME:SST
DTSTART:19700101T000000
END:STANDARD
END:VTIMEZONE
BEGIN:VEVENT
UID:3646443:Event:36963
DTSTAMP:20260421T155212Z
SUMMARY:Quinte Farm Trade Show
DESCRIPTION:Quinte Farm and Trade Show, 9 am to 4 pm, Knights of Colum
 bus Hall, Trenton. Trade show with 45 local exhibitors. Seminars start
  at 10:30 am\n- Peter Moran from MPAC explaining the process and the r
 easons for your assessed values\n- John Jantzi and Kevin Williams of R
 emax Stratford speaking on farmland prices\n- Hot roast beef lunch for
  nominal charge. Couples receive a small chocolate gift\n- Bill Groot-
 Nibbelink, OMAFRA on composting deadstock\n- Dr. Sam Leadley on dairy 
 calf management\n\nFor more information visit https://ontag.farms.com/
 events/quinte-farm-trade-show-2
DTSTART;TZID=Pacific/Midway:20130214T090000
DTEND;TZID=Pacific/Midway:20130214T160000
CATEGORIES:farm, show
LOCATION:Knights of Columbus Hall
WEBSITE:
URL:
CONTACT:
ORGANIZER:
ATTACH;FMTTYPE="image/jpeg":
ATTENDEE;ROLE=REQ-PARTICIPANT;PARTSTAT=ACCEPTED;RSVP=TRUE;CN="Jeff Fin
 lay":https://ontag.farms.com/profile/JeffFinlay233
END:VEVENT
END:VCALENDAR
