BEGIN:VCALENDAR
PRODID:NingEventWidget-v1
VERSION:2.0
METHOD:PUBLISH
BEGIN:VTIMEZONE
TZID:Pacific/Midway
X-LIC-LOCATION:Pacific/Midway
BEGIN:STANDARD
TZOFFSETFROM:-1100
TZOFFSETTO:-1100
TZNAME:SST
DTSTART:19700101T000000
END:STANDARD
END:VTIMEZONE
BEGIN:VEVENT
UID:3646443:Event:72777
DTSTAMP:20260419T112544Z
SUMMARY:Quinte Farm Trade Show 2018
DESCRIPTION:Trade show runs from 9:00 am to 4:00 pm with over 40 loca
 l exhibitors.\n \nSeminars:\n10:30 am  Keynote Speaker: Matthew Pot
 , “Perspectives on Global Markets, Primary focus on Corn, Soy, and W
 heat”.     \nFollowed by “Decision Makers Discussion on Preci
 sion Ag’s Future”. To be confirmed.\n \n12:00 noon        
 Delicious hot roast beef dinner. Tickets available at the door.\n \n1
 :00 pm   Amy Petherick, “OSCIA Workshops and potential funding op
 portunities”.\n \n1:20 pm  Keynote Speaker: Dr. Dan Undersander, 
 “Mowing, Conditioning and Drying Forage for Hay, Haylage and Balage 
 and info on Low Lignin Alfalafa”.\n\nFor more information visit http
 s://ontag.farms.com/events/quinte-farm-trade-show-2018
DTSTART;TZID=Pacific/Midway:20180215T090000
DTEND;TZID=Pacific/Midway:20180215T160000
CATEGORIES:farm, show
LOCATION:Knights of Columbus Hall
WEBSITE:
URL:
CONTACT:
ORGANIZER;CN="Quinte Farm Trade Show":https://ontag.farms.com/profile/
 QuinteFarmTradeShow
ATTACH;FMTTYPE="image/jpeg":http://storage.ning.com/topology/rest/1.0/
 file/get/1091549963?profile=original
ATTENDEE;ROLE=REQ-PARTICIPANT;PARTSTAT=ACCEPTED;RSVP=TRUE;CN="Quinte F
 arm Trade Show":https://ontag.farms.com/profile/QuinteFarmTradeShow
ATTENDEE;ROLE=REQ-PARTICIPANT;PARTSTAT=TENTATIVE;RSVP=TRUE;CN="Joe Dal
 es":https://ontag.farms.com/profile/JoeDales
END:VEVENT
END:VCALENDAR
