BEGIN:VCALENDAR
PRODID:NingEventWidget-v1
VERSION:2.0
METHOD:PUBLISH
BEGIN:VTIMEZONE
TZID:Pacific/Midway
X-LIC-LOCATION:Pacific/Midway
BEGIN:STANDARD
TZOFFSETFROM:-1100
TZOFFSETTO:-1100
TZNAME:SST
DTSTART:19700101T000000
END:STANDARD
END:VTIMEZONE
BEGIN:VEVENT
UID:3646443:Event:78598
DTSTAMP:20260419T110823Z
SUMMARY:Quinte Farm Trade Show
DESCRIPTION:Local agricultural vendors. Free admission. \n10am Greg H
 aney, Agro 100\n11am Willy Heidebrecht, FBC\nNoon - Lunch (Hot roast b
 eef lunch available at cost)\n1:30pm Bruce Buttar, OFA\n2:00pm Brent C
 orrigan, Alltech Canada \n\nFor more information visit https://ontag.
 farms.com/events/quinte-farm-trade-show-3
DTSTART;TZID=Pacific/Midway:20200220T090000
DTEND;TZID=Pacific/Midway:20200220T160000
CATEGORIES:farm, show
LOCATION:Knights of Columbus Hall, Trenton, Ontario
WEBSITE:
URL:
CONTACT:
ORGANIZER;CN="Quinte Farm Trade Show":https://ontag.farms.com/profile/
 QuinteFarmTradeShow
ATTACH;FMTTYPE="image/jpeg":
ATTENDEE;ROLE=REQ-PARTICIPANT;PARTSTAT=ACCEPTED;RSVP=TRUE;CN="Quinte F
 arm Trade Show":https://ontag.farms.com/profile/QuinteFarmTradeShow
END:VEVENT
END:VCALENDAR
