BEGIN:VCALENDAR
PRODID:NingEventWidget-v1
VERSION:2.0
METHOD:PUBLISH
BEGIN:VTIMEZONE
TZID:Pacific/Midway
X-LIC-LOCATION:Pacific/Midway
BEGIN:STANDARD
TZOFFSETFROM:-1100
TZOFFSETTO:-1100
TZNAME:SST
DTSTART:19700101T000000
END:STANDARD
END:VTIMEZONE
BEGIN:VEVENT
UID:3646443:Event:64484
DTSTAMP:20260421T054250Z
SUMMARY:Quinte Farm Trade Show
DESCRIPTION:Quinte Farm Trade Show, Knights of Columbus Hall, Trenton,
  Ontario  40 local exhibitors\nKeynote Speakers:\nAdam Skinner - Ontar
 io Blizzard Watch - Local weather trends\nDaniel Gutierrez - JEFO - Da
 iry Farming in Mexico/Latin America - different conditions, same chall
 enges\n\nFor more information visit https://ontag.farms.com/events/qui
 nte-farm-trade-show-4
DTSTART;TZID=Pacific/Midway:20170209T090000
DTEND;TZID=Pacific/Midway:20170209T160000
CATEGORIES:farm, show
LOCATION:Trenton, ON
WEBSITE:
URL:
CONTACT:
ORGANIZER;CN="Quinte Farm Trade Show":https://ontag.farms.com/profile/
 QuinteFarmTradeShow
ATTACH;FMTTYPE="image/jpeg":http://storage.ning.com/topology/rest/1.0/
 file/get/1091544771?profile=original
ATTENDEE;ROLE=REQ-PARTICIPANT;PARTSTAT=ACCEPTED;RSVP=TRUE;CN="Quinte F
 arm Trade Show":https://ontag.farms.com/profile/QuinteFarmTradeShow
ATTENDEE;ROLE=REQ-PARTICIPANT;PARTSTAT=ACCEPTED;RSVP=TRUE;CN="Grace Ma
 cDonald":https://ontag.farms.com/profile/GraceMacDonald
ATTENDEE;ROLE=REQ-PARTICIPANT;PARTSTAT=TENTATIVE;RSVP=TRUE;CN="Ralph E
 lliott Neil":https://ontag.farms.com/profile/RalphElliottNeil
END:VEVENT
END:VCALENDAR
