BEGIN:VCALENDAR
PRODID:NingEventWidget-v1
VERSION:2.0
METHOD:PUBLISH
BEGIN:VTIMEZONE
TZID:Pacific/Midway
X-LIC-LOCATION:Pacific/Midway
BEGIN:STANDARD
TZOFFSETFROM:-1100
TZOFFSETTO:-1100
TZNAME:SST
DTSTART:19700101T000000
END:STANDARD
END:VTIMEZONE
BEGIN:VEVENT
UID:3646443:Event:64964
DTSTAMP:20260422T082512Z
SUMMARY:Regenerative Orchards: Design, Production and Marketing
DESCRIPTION:Presented in conjunction with Eco Farm Day, this full day 
 workshop is a collaboration between Canadian Organic Growers Ottawa - 
 St Lawrence Outaouais Chapter (COG OSO) and Ecological Farmers Associa
 tion of Ontario (EFAO). \nJoin Stefan Sobkowiak, biologist, landscape 
 architect, permaculture educator and owner-operator of Fermes Miracle 
 Farms in Western Quebec will lead this hands-on workshop.  He will di
 scuss his experience of transforming 5 acres out of his 12-acre proper
 ty into a permaculture-inspired “u-pick” orchard. Utilizing an inn
 ovative interplanting model, Stefan is producing over 100 cultivars of
  apples, 18 cultivars of pears, Asian pears, plums, cherries, hardy ki
 wi, grapes, mulberries, gooseberries, red currant, black currant, Sask
 atoon berries, raspberries, strawberries, and a whole range of herbs a
 nd perennial vegetables.\nThe full-day workshop will include informati
 on about: multispecies permaculture orchard design; variety selection 
 and propagation; orchard-specific soil care; economics and profitabili
 ty; pest management, and ecological benefits such as for pollinators a
 nd other orchard ‘allies’. \nCost: $65/person for EFAO and COG OS
 O members; $75 for non-members.\nRegistration is available through the
  COG OSO website in conjunction with Eco Farm Day: cog.ca/ottawa/eco-f
 arm-day. For more information contact ecofarmday@cog.ca.\n\nFor more i
 nformation visit https://ontag.farms.com/events/regenerative-orchards-
 design-production-and-marketing
DTSTART;TZID=Pacific/Midway:20160221T000000
DTEND;TZID=Pacific/Midway:20160221T235900
CATEGORIES:worskhop
LOCATION:Ramada Inn Cornwall
WEBSITE:http://www.cornwallramada.com
URL:http://www.cornwallramada.com
CONTACT:
ORGANIZER:COG OSO and EFAO
ATTACH;FMTTYPE="image/jpeg":
ATTENDEE;ROLE=REQ-PARTICIPANT;PARTSTAT=ACCEPTED;RSVP=TRUE;CN="Colin Lu
 ndy":https://ontag.farms.com/profile/ColinLundy
END:VEVENT
END:VCALENDAR
