BEGIN:VCALENDAR
PRODID:NingEventWidget-v1
VERSION:2.0
METHOD:PUBLISH
BEGIN:VTIMEZONE
TZID:Pacific/Midway
X-LIC-LOCATION:Pacific/Midway
BEGIN:STANDARD
TZOFFSETFROM:-1100
TZOFFSETTO:-1100
TZNAME:SST
DTSTART:19700101T000000
END:STANDARD
END:VTIMEZONE
BEGIN:VEVENT
UID:3646443:Event:868
DTSTAMP:20260422T233305Z
SUMMARY:Regional Equine & Agricultural Centre of Huron Open House
DESCRIPTION:Ribbon Cutting at 9:30 AM\nDisplays, Demonstrations, Semin
 ars, & Self Guided Tours 10 AM to 6 PM.\nCome and see:\nEquiMania! - w
 ww.equimania.ca\nMaple the Cow - www.maplethecow.org\nThe Pig Mobile f
 rom Ontario Pork.\n\nBreed Demonstrations by Friesians, Paso Finos, Ca
 nadians & Arabs\nDiscipline Demonstrations including Dressage, Prince 
 Philip Cup Games, Barrel Racing, Reining,\nDriving (Single and 4 in ha
 nd) and a Musical Ride\nEducational Demonstrations include Horse Healt
 h Check, Shoeing a Horse, Equine Massage\nSeminars on Gaited Horses, L
 ocal Foods, Tack & Its Uses, What is Competitive Trail, Ag Awareness\n
 \nTrade Show Booths - be prepared to shop!\n\nVarious local food suppl
 iers will have food booths on site\nOntario Dairy Farmers will be sell
 ing Ice Cream\n\nFor more information visit https://ontag.farms.com/ev
 ents/regional-equine-agricultural
DTSTART;TZID=Pacific/Midway:20090912T093000
DTEND;TZID=Pacific/Midway:20090912T180000
CATEGORIES:"open house"
LOCATION:the new REACH facility
WEBSITE:http://www.reachhuron.ca
URL:http://www.reachhuron.ca
CONTACT:519-482-3998
ORGANIZER:Melanie Prosser
ATTACH;FMTTYPE="image/jpeg":http://storage.ning.com/topology/rest/1.0/
 file/get/1091498556?profile=original
ATTENDEE;ROLE=REQ-PARTICIPANT;PARTSTAT=ACCEPTED;RSVP=TRUE;CN="Wayne Bl
 ack":https://ontag.farms.com/profile/WayneKBlack
END:VEVENT
END:VCALENDAR
