BEGIN:VCALENDAR
PRODID:NingEventWidget-v1
VERSION:2.0
METHOD:PUBLISH
BEGIN:VTIMEZONE
TZID:Pacific/Midway
X-LIC-LOCATION:Pacific/Midway
BEGIN:STANDARD
TZOFFSETFROM:-1100
TZOFFSETTO:-1100
TZNAME:SST
DTSTART:19700101T000000
END:STANDARD
END:VTIMEZONE
BEGIN:VEVENT
UID:3646443:Event:5451
DTSTAMP:20260422T131506Z
SUMMARY:Renfrew SCIA Education Day
DESCRIPTION:Renfrew SCIA Education Day and Breakfast Meeting, Whitetai
 l Golf Course, Mink Lake.\n\nRegistration 9 am, breakfast 9:30 am, Reg
 istration $25 includes breakfast and golf presentations 10 am to 12 no
 on featuring Helmut Spieser and Scott Banks from OMAFRA Followed by 9 
 holes of golf.\n\nContact: Dean Matheson 613-646-9622\n\nFor more info
 rmation visit https://ontag.farms.com/events/renfrew-scia-education-da
 y
DTSTART;TZID=Pacific/Midway:20100622T100000
DTEND;TZID=Pacific/Midway:20100622T120000
CATEGORIES:education, day
LOCATION:Mink Lake
WEBSITE:
URL:
CONTACT:
ORGANIZER:
ATTACH;FMTTYPE="image/jpeg":
ATTENDEE;ROLE=REQ-PARTICIPANT;PARTSTAT=ACCEPTED;RSVP=TRUE;CN="OntAG Ad
 min":https://ontag.farms.com/profile/OntAGAdmin
END:VEVENT
END:VCALENDAR
