BEGIN:VCALENDAR
PRODID:NingEventWidget-v1
VERSION:2.0
METHOD:PUBLISH
BEGIN:VTIMEZONE
TZID:Pacific/Midway
X-LIC-LOCATION:Pacific/Midway
BEGIN:STANDARD
TZOFFSETFROM:-1100
TZOFFSETTO:-1100
TZNAME:SST
DTSTART:19700101T000000
END:STANDARD
END:VTIMEZONE
BEGIN:VEVENT
UID:3646443:Event:1889
DTSTAMP:20260423T053309Z
SUMMARY:Research to Receptor Series 2009
DESCRIPTION:R2R 2009 will be an elite gathering of researchers, academ
 ics and executives who are involved in agriculture and agri-food innov
 ation and research within Niagara region and surrounding areas.\n\nThe
  program will include plenary sessions with key guest speakers and tho
 ught-provoking panel discussions focusing on biomass opportunities for
  fuel, with particular emphasis on the electricity and heat generating
  capacity and needs from the discovery side to launching into the mark
 et and beyond.\n\nFor more information visit https://ontag.farms.com/e
 vents/research-to-receptor-series-1
DTSTART;TZID=Pacific/Midway:20091119T113000
DTEND;TZID=Pacific/Midway:20091119T180000
CATEGORIES:agricultural, solutions, for, "energy:", biomass
LOCATION:Royal Botanical Gardens, Burlington
WEBSITE:http://www.rbg.ca/
URL:http://www.rbg.ca/
CONTACT:519-525 9140 ext. 26602
ORGANIZER:Ana Paredes
ATTACH;FMTTYPE="image/jpeg":http://storage.ning.com/topology/rest/1.0/
 file/get/1091500788?profile=original
ATTENDEE;ROLE=REQ-PARTICIPANT;PARTSTAT=TENTATIVE;RSVP=TRUE;CN="John Ke
 lly":https://ontag.farms.com/profile/JohnKelly
END:VEVENT
END:VCALENDAR
