BEGIN:VCALENDAR
PRODID:NingEventWidget-v1
VERSION:2.0
METHOD:PUBLISH
BEGIN:VTIMEZONE
TZID:Pacific/Midway
X-LIC-LOCATION:Pacific/Midway
BEGIN:STANDARD
TZOFFSETFROM:-1100
TZOFFSETTO:-1100
TZNAME:SST
DTSTART:19700101T000000
END:STANDARD
END:VTIMEZONE
BEGIN:VEVENT
UID:3646443:Event:1895
DTSTAMP:20260424T054214Z
SUMMARY:Research to Receptor Series 2009
DESCRIPTION:R2R 2009 will be an elite gathering of researchers, academ
 ics and executives who are involved in agriculture and agri-food innov
 ation and research within Guelph.\n\nThis year's Research to Receptor 
 will follow GPI's Networking Breakfast. Attend both events and save $1
 0 for a total of $65. Contact admin@guelphinnovation.com to get this d
 iscount and to register.\n\nThe program will include lunch, plenary se
 ssions and seminars, with key guest speakers and thought-provoking pan
 el discussions focusing on biomass for the generation of energy, from 
 the discovery and production side to launching into the market and bey
 ond to end users. This will provide a great opportunity to network and
  interact with these key leaders. Discover how to bring research from 
 the lab to market and how to get the research you need accomplished co
 nducted at universities.\n\nTOPICS INCLUDE:\n\n- Biomass Innovation â€
 “ What an array of technologies!\n- End Users of Biomass â€“ Ontario P
 ower Generation and others.\n- How to identify research opportunities 
 and partners.\n- Unique Solutions and Operations in Ontario - Huge Cap
 acity\n\nFor more information visit https://ontag.farms.com/events/res
 earch-to-receptor-series-3
DTSTART;TZID=Pacific/Midway:20091126T090000
DTEND;TZID=Pacific/Midway:20091126T150000
CATEGORIES:agricultural, solutions, for, "energy:", biomass
LOCATION:Delta Hotel, Guelph
WEBSITE:http://www.deltaguelph.com
URL:http://www.deltaguelph.com
CONTACT:519 824 7120
ORGANIZER:Alex Barlow / Laurie Iversen / Jim Wadleigh
ATTACH;FMTTYPE="image/jpeg":http://storage.ning.com/topology/rest/1.0/
 file/get/1091501110?profile=original
ATTENDEE;ROLE=REQ-PARTICIPANT;PARTSTAT=ACCEPTED;RSVP=TRUE;CN="John Kel
 ly":https://ontag.farms.com/profile/JohnKelly
END:VEVENT
END:VCALENDAR
