BEGIN:VCALENDAR
PRODID:NingEventWidget-v1
VERSION:2.0
METHOD:PUBLISH
BEGIN:VTIMEZONE
TZID:Pacific/Midway
X-LIC-LOCATION:Pacific/Midway
BEGIN:STANDARD
TZOFFSETFROM:-1100
TZOFFSETTO:-1100
TZNAME:SST
DTSTART:19700101T000000
END:STANDARD
END:VTIMEZONE
BEGIN:VEVENT
UID:3646443:Event:59322
DTSTAMP:20260423T010610Z
SUMMARY:Rockwood Farmers' Annual Santa Claus Parade of Lights
DESCRIPTION:Join us this Year for the...22nd Annual Parade!!\nThursday
 , December 11th, 2014.Main Street and Highway 7Rockwood, OntarioVisit 
 the Parade Route Link for Route and Directions!Rain, Snow or Shine!!
 \n\n\nFor more information visit https://ontag.farms.com/events/rockwo
 od-farmers-annual-santa-claus-parade-of-lights
DTSTART;TZID=Pacific/Midway:20141211T180000
DTEND;TZID=Pacific/Midway:20141211T200000
CATEGORIES:parade
LOCATION:Main Street and Highway 7
WEBSITE:http://www.rkde.com/rockwoodparade/
URL:http://www.rkde.com/rockwoodparade/
CONTACT:
ORGANIZER:The Rockwood Farming Community
ATTACH;FMTTYPE="image/jpeg":http://storage.ning.com/topology/rest/1.0/
 file/get/1091533479?profile=original
ATTENDEE;ROLE=REQ-PARTICIPANT;PARTSTAT=ACCEPTED;RSVP=TRUE;CN="OntAG Ad
 min":https://ontag.farms.com/profile/OntAGAdmin
END:VEVENT
END:VCALENDAR
