BEGIN:VCALENDAR
PRODID:NingEventWidget-v1
VERSION:2.0
METHOD:PUBLISH
BEGIN:VTIMEZONE
TZID:Pacific/Midway
X-LIC-LOCATION:Pacific/Midway
BEGIN:STANDARD
TZOFFSETFROM:-1100
TZOFFSETTO:-1100
TZNAME:SST
DTSTART:19700101T000000
END:STANDARD
END:VTIMEZONE
BEGIN:VEVENT
UID:3646443:Event:28619
DTSTAMP:20260421T130751Z
SUMMARY:Rockwood Farmers' Santa Claus Parade of Lights
DESCRIPTION:Join us this Year for the...19th Annual Parade!\nThursday,
  December 8th, 2011.Main Street and Highway 7Rockwood, OntarioVisit th
 e Parade Route Link for Route and Directions!Rain, Snow or Shine!!\n
 \n\nFor more information visit https://ontag.farms.com/events/rockwood
 -farmers-santa-claus-parade-of-lights
DTSTART;TZID=Pacific/Midway:20111208T190000
DTEND;TZID=Pacific/Midway:20111208T210000
CATEGORIES:parade
LOCATION:will begin at 7:00pm on the Fifth Line (County Road 27 or Mai
 n Street in Rockwood)
WEBSITE:http://www.rockwoodfarmersparade.org/
URL:http://www.rockwoodfarmersparade.org/
CONTACT:
ORGANIZER:rockwood_parade@sympatico.ca
ATTACH;FMTTYPE="image/jpeg":http://storage.ning.com/topology/rest/1.0/
 file/get/1091513137?profile=original
ATTENDEE;ROLE=REQ-PARTICIPANT;PARTSTAT=ACCEPTED;RSVP=TRUE;CN="OntAG Ad
 min":https://ontag.farms.com/profile/OntAGAdmin
ATTENDEE;ROLE=REQ-PARTICIPANT;PARTSTAT=TENTATIVE;RSVP=TRUE;CN="Richard
  Hamilton":https://ontag.farms.com/profile/RichardHamilton
END:VEVENT
END:VCALENDAR
